BEGIN:VCALENDAR
VERSION:2.0
PRODID:-//Carnegie Hill CSA - ECPv6.15.17//NONSGML v1.0//EN
CALSCALE:GREGORIAN
METHOD:PUBLISH
X-ORIGINAL-URL:https://www.carnegiehillcsa.org
X-WR-CALDESC:Events for Carnegie Hill CSA
REFRESH-INTERVAL;VALUE=DURATION:PT1H
X-Robots-Tag:noindex
X-PUBLISHED-TTL:PT1H
BEGIN:VTIMEZONE
TZID:America/New_York
BEGIN:DAYLIGHT
TZOFFSETFROM:-0500
TZOFFSETTO:-0400
TZNAME:EDT
DTSTART:20210314T070000
END:DAYLIGHT
BEGIN:STANDARD
TZOFFSETFROM:-0400
TZOFFSETTO:-0500
TZNAME:EST
DTSTART:20211107T060000
END:STANDARD
BEGIN:DAYLIGHT
TZOFFSETFROM:-0500
TZOFFSETTO:-0400
TZNAME:EDT
DTSTART:20220313T070000
END:DAYLIGHT
BEGIN:STANDARD
TZOFFSETFROM:-0400
TZOFFSETTO:-0500
TZNAME:EST
DTSTART:20221106T060000
END:STANDARD
BEGIN:DAYLIGHT
TZOFFSETFROM:-0500
TZOFFSETTO:-0400
TZNAME:EDT
DTSTART:20230312T070000
END:DAYLIGHT
BEGIN:STANDARD
TZOFFSETFROM:-0400
TZOFFSETTO:-0500
TZNAME:EST
DTSTART:20231105T060000
END:STANDARD
BEGIN:DAYLIGHT
TZOFFSETFROM:-0500
TZOFFSETTO:-0400
TZNAME:EDT
DTSTART:20240310T070000
END:DAYLIGHT
BEGIN:STANDARD
TZOFFSETFROM:-0400
TZOFFSETTO:-0500
TZNAME:EST
DTSTART:20241103T060000
END:STANDARD
END:VTIMEZONE
BEGIN:VEVENT
DTSTART;TZID=America/New_York:20230606T143000
DTEND;TZID=America/New_York:20230606T183000
DTSTAMP:20260424T033417
CREATED:20230424T213520Z
LAST-MODIFIED:20230424T213725Z
UID:7306-1686061800-1686076200@www.carnegiehillcsa.org
SUMMARY:Week #1: Vegetable Pickups Begin; Coffee & Bean Shares
DESCRIPTION:This will be our first weekly vegetable share pickup of the 2023 harvest season. If you have a mushroom share\, this will also be our first weekly mushroom share delivery. \nJune’s coffee and bean shares will also be delivered today. Fruit shares will begin the first week in July.
URL:https://www.carnegiehillcsa.org/calendar/2023-week-1/
LOCATION:Church of the Heavenly Rest
CATEGORIES:CSA share pickup
END:VEVENT
BEGIN:VEVENT
DTSTART;TZID=America/New_York:20230518T190000
DTEND;TZID=America/New_York:20230518T200000
DTSTAMP:20260424T033417
CREATED:20230424T210702Z
LAST-MODIFIED:20230424T212825Z
UID:7299-1684436400-1684440000@www.carnegiehillcsa.org
SUMMARY:Meet Your Farmer
DESCRIPTION:Already a member\, or interested in taking part in the CSA? This is a great opportunity for you! Farmers Pete and Candice will be there to discuss how Stoneledge began and take a guided tour through the process of seeding\, growing\, and harvesting\, along with packing and delivering your shares. We hope you can join us. \nUse this link to register:\nhttps://us02web.zoom.us/meeting/register/tZMpf-6oqDMrGNx9bZcOdTlkKwqsxIqfRnXI
URL:https://www.carnegiehillcsa.org/calendar/meet-your-farmer/
LOCATION:Zoom
CATEGORIES:community event
ORGANIZER;CN="Stoneledge Farm":MAILTO:info@stoneledge.farm
END:VEVENT
BEGIN:VEVENT
DTSTART;TZID=America/New_York:20230514T090000
DTEND;TZID=America/New_York:20230514T160000
DTSTAMP:20260424T033417
CREATED:20230424T210100Z
LAST-MODIFIED:20230424T210150Z
UID:7297-1684054800-1684080000@www.carnegiehillcsa.org
SUMMARY:Farm Visit & Plant Sale
DESCRIPTION:Stoneledge Farm’s annual plant sale will take place on Mother’s Day weekend! This is a great way to stock up on all your garden plants for the summer. The farm crew has carefully seeded them for you and repotted them up so all you have to do is plant them. They will have porch hanging baskets this year (cherry tomatoes\, and some with basil mixed in! YUM!) as well as the herb garden pots for your porch\, deck\, or patio. Lots of great things will be at the plant sale. We hope you can make it! \nWhile you are here feel free to take a self-guided field walk or chat with your farmer. Farmers Pete\, Deb\, and Candice will be around and would love to answer any questions you might have.
URL:https://www.carnegiehillcsa.org/calendar/farm-visit-plant-sale-2/
LOCATION:Stoneledge Farm\, 145 Garcia Lane\, Leeds\, New York\, 12451
CATEGORIES:farm visit
ORGANIZER;CN="Stoneledge Farm":MAILTO:info@stoneledge.farm
END:VEVENT
BEGIN:VEVENT
DTSTART;TZID=America/New_York:20230513T090000
DTEND;TZID=America/New_York:20230513T160000
DTSTAMP:20260424T033417
CREATED:20230424T205929Z
LAST-MODIFIED:20230424T210236Z
UID:7295-1683968400-1683993600@www.carnegiehillcsa.org
SUMMARY:Farm Visit & Plant Sale
DESCRIPTION:Stoneledge Farm’s annual plant sale will take place on Mother’s Day weekend! This is a great way to stock up on all your garden plants for the summer. The farm crew has carefully seeded them for you and repotted them up so all you have to do is plant them. They will have porch hanging baskets this year (cherry tomatoes\, and some with basil mixed in! YUM!) as well as the herb garden pots for your porch\, deck\, or patio. Lots of great things will be at the plant sale. We hope you can make it! \nWhile you are here feel free to take a self-guided field walk or chat with your farmer. Farmers Pete\, Deb\, and Candice will be around and would love to answer any questions you might have.
URL:https://www.carnegiehillcsa.org/calendar/farm-visit-plant-sale/
LOCATION:Stoneledge Farm\, 145 Garcia Lane\, Leeds\, New York\, 12451
CATEGORIES:farm visit
ORGANIZER;CN="Stoneledge Farm":MAILTO:info@stoneledge.farm
END:VEVENT
BEGIN:VEVENT
DTSTART;TZID=America/New_York:20230506T100000
DTEND;TZID=America/New_York:20230506T180000
DTSTAMP:20260424T033417
CREATED:20230424T211955Z
LAST-MODIFIED:20230424T212922Z
UID:7301-1683367200-1683396000@www.carnegiehillcsa.org
SUMMARY:CSA at the Second Ave Street Fair
DESCRIPTION:This is a great opportunity to learn about local farming and community supported agriculture\, and chat with CSA members on the Upper East Side! Come see what CSA is all about\, and learn about Stoneledge Farm and their organic vegetable shares.
URL:https://www.carnegiehillcsa.org/calendar/csa-at-the-second-ave-street-fair/
LOCATION:Second Avenue\, between 80th and 81st Streets\, 1544 Second Ave\, New York\, NY\, 10028\, United States
CATEGORIES:community event
END:VEVENT
BEGIN:VEVENT
DTSTART;TZID=America/New_York:20230110T143000
DTEND;TZID=America/New_York:20230110T173000
DTSTAMP:20260424T033417
CREATED:20221216T221000Z
LAST-MODIFIED:20221216T221000Z
UID:7240-1673361000-1673371800@www.carnegiehillcsa.org
SUMMARY:Lewis Waite Farm Delivery
DESCRIPTION:Choose from a wide variety of locally sourced\, responsibly raised\, farm fresh products – pastured eggs\, cheeses\, butter\, bread\, pizza\, flour\, jams\, grass-fed and finished meat\, pastured poultry\, pantry staples\, and much more from a coalition of 60+ small family farms in Upstate NY & VT. All meats\, poultry\, and dairy are free of growth hormones & antibiotics. Many vegan\, organic\, dairy-free\, and gluten-free items available. Members rave about the quality. \nPlace your order by 8am Monday the day before delivery.
URL:https://www.carnegiehillcsa.org/calendar/2023-jan-lwf-delivery/
LOCATION:Pickup will be hosted at a member’s apartment on the UES. The address will be provided in confirmation email.
CATEGORIES:CSA extras
END:VEVENT
BEGIN:VEVENT
DTSTART;TZID=America/New_York:20221213T143000
DTEND;TZID=America/New_York:20221213T173000
DTSTAMP:20260424T033417
CREATED:20221216T220751Z
LAST-MODIFIED:20221216T220751Z
UID:7238-1670941800-1670952600@www.carnegiehillcsa.org
SUMMARY:Lewis Waite Farm Delivery
DESCRIPTION:Choose from a wide variety of locally sourced\, responsibly raised\, farm fresh products – pastured eggs\, cheeses\, butter\, bread\, pizza\, flour\, jams\, grass-fed and finished meat\, pastured poultry\, pantry staples\, and much more from a coalition of 60+ small family farms in Upstate NY & VT. All meats\, poultry\, and dairy are free of growth hormones & antibiotics. Many vegan\, organic\, dairy-free\, and gluten-free items available. Members rave about the quality. \nPlace your order by 8am Monday the day before delivery.
URL:https://www.carnegiehillcsa.org/calendar/2022-dec-lwf-delivery/
LOCATION:Pickup will be hosted at a member’s apartment on the UES. The address will be provided in confirmation email.
CATEGORIES:CSA extras
END:VEVENT
BEGIN:VEVENT
DTSTART;TZID=America/New_York:20221122T120000
DTEND;TZID=America/New_York:20221122T170000
DTSTAMP:20260424T033417
CREATED:20220414T233436Z
LAST-MODIFIED:20220414T233959Z
UID:7016-1669118400-1669136400@www.carnegiehillcsa.org
SUMMARY:Lewis Waite Farm Turkey & Holiday Delivery
DESCRIPTION:Order your Thanksgiving turkey and other locally made foods for the holidays!
URL:https://www.carnegiehillcsa.org/calendar/2022-turkey-holiday-delivery/
LOCATION:Church of the Heavenly Rest
CATEGORIES:CSA extras
END:VEVENT
BEGIN:VEVENT
DTSTART;TZID=America/New_York:20221108T140000
DTEND;TZID=America/New_York:20221108T173000
DTSTAMP:20260424T033417
CREATED:20220414T233133Z
LAST-MODIFIED:20220414T233200Z
UID:7014-1667916000-1667928600@www.carnegiehillcsa.org
SUMMARY:Lewis Waite Farm Delivery
DESCRIPTION:
URL:https://www.carnegiehillcsa.org/calendar/2022-nov-8-lwf-delivery/
LOCATION:Pickup will be outside of a member’s building on the UES. We’ll email the pickup location details the Monday before delivery.
CATEGORIES:CSA extras
END:VEVENT
BEGIN:VEVENT
DTSTART;TZID=America/New_York:20221101T150000
DTEND;TZID=America/New_York:20221101T183000
DTSTAMP:20260424T033417
CREATED:20211201T193437Z
LAST-MODIFIED:20220414T233032Z
UID:6887-1667314800-1667327400@www.carnegiehillcsa.org
SUMMARY:Week #22: Last Vegetable & Fruit Pickup
DESCRIPTION:This is our last week of 2022 vegetable and fruit shares.
URL:https://www.carnegiehillcsa.org/calendar/2022-week-22/
LOCATION:Church of the Heavenly Rest
CATEGORIES:CSA share pickup
END:VEVENT
BEGIN:VEVENT
DTSTART;TZID=America/New_York:20221025T150000
DTEND;TZID=America/New_York:20221025T183000
DTSTAMP:20260424T033417
CREATED:20211201T193247Z
LAST-MODIFIED:20220414T233014Z
UID:6885-1666710000-1666722600@www.carnegiehillcsa.org
SUMMARY:Week #21: Coffee & Bean Shares; Lewis Waite Farm Delivery
DESCRIPTION:
URL:https://www.carnegiehillcsa.org/calendar/2022-week-21/
LOCATION:Church of the Heavenly Rest
CATEGORIES:CSA extras,CSA share pickup
END:VEVENT
BEGIN:VEVENT
DTSTART;TZID=America/New_York:20221018T150000
DTEND;TZID=America/New_York:20221018T183000
DTSTAMP:20260424T033417
CREATED:20211201T193131Z
LAST-MODIFIED:20220414T232945Z
UID:6883-1666105200-1666117800@www.carnegiehillcsa.org
SUMMARY:Week #20
DESCRIPTION:
URL:https://www.carnegiehillcsa.org/calendar/2022-week-20/
LOCATION:Church of the Heavenly Rest
CATEGORIES:CSA share pickup
END:VEVENT
BEGIN:VEVENT
DTSTART;TZID=America/New_York:20221011T150000
DTEND;TZID=America/New_York:20221011T183000
DTSTAMP:20260424T033417
CREATED:20211201T193015Z
LAST-MODIFIED:20220414T232919Z
UID:6881-1665500400-1665513000@www.carnegiehillcsa.org
SUMMARY:Week #19: Lewis Waite Farm Delivery
DESCRIPTION:
URL:https://www.carnegiehillcsa.org/calendar/2022-week-19/
LOCATION:Church of the Heavenly Rest
CATEGORIES:CSA extras,CSA share pickup
END:VEVENT
BEGIN:VEVENT
DTSTART;TZID=America/New_York:20221004T150000
DTEND;TZID=America/New_York:20221004T183000
DTSTAMP:20260424T033417
CREATED:20211201T192923Z
LAST-MODIFIED:20220414T232841Z
UID:6879-1664895600-1664908200@www.carnegiehillcsa.org
SUMMARY:Week #18: Coffee & Bean Shares
DESCRIPTION:
URL:https://www.carnegiehillcsa.org/calendar/2022-week-18/
LOCATION:Church of the Heavenly Rest
CATEGORIES:CSA share pickup
END:VEVENT
BEGIN:VEVENT
DTSTART;TZID=America/New_York:20220927T150000
DTEND;TZID=America/New_York:20220927T183000
DTSTAMP:20260424T033417
CREATED:20211201T192813Z
LAST-MODIFIED:20220414T232822Z
UID:6877-1664290800-1664303400@www.carnegiehillcsa.org
SUMMARY:Week #17: Lewis Waite Farm Delivery
DESCRIPTION:
URL:https://www.carnegiehillcsa.org/calendar/2022-week-17/
LOCATION:Church of the Heavenly Rest
CATEGORIES:CSA extras,CSA share pickup
END:VEVENT
BEGIN:VEVENT
DTSTART;TZID=America/New_York:20220920T150000
DTEND;TZID=America/New_York:20220920T183000
DTSTAMP:20260424T033417
CREATED:20211201T192646Z
LAST-MODIFIED:20220414T232756Z
UID:6875-1663686000-1663698600@www.carnegiehillcsa.org
SUMMARY:Week #16
DESCRIPTION:
URL:https://www.carnegiehillcsa.org/calendar/2022-week-16/
LOCATION:Church of the Heavenly Rest
CATEGORIES:CSA share pickup
END:VEVENT
BEGIN:VEVENT
DTSTART;TZID=America/New_York:20220913T150000
DTEND;TZID=America/New_York:20220913T183000
DTSTAMP:20260424T033417
CREATED:20211201T192556Z
LAST-MODIFIED:20220414T232724Z
UID:6873-1663081200-1663093800@www.carnegiehillcsa.org
SUMMARY:Week #15: Lewis Waite Farm Delivery
DESCRIPTION:
URL:https://www.carnegiehillcsa.org/calendar/2022-week-15/
LOCATION:Church of the Heavenly Rest
CATEGORIES:CSA extras,CSA share pickup
END:VEVENT
BEGIN:VEVENT
DTSTART;TZID=America/New_York:20220906T150000
DTEND;TZID=America/New_York:20220906T183000
DTSTAMP:20260424T033417
CREATED:20211201T192447Z
LAST-MODIFIED:20220414T232654Z
UID:6871-1662476400-1662489000@www.carnegiehillcsa.org
SUMMARY:Week #14
DESCRIPTION:
URL:https://www.carnegiehillcsa.org/calendar/2022-week-14/
LOCATION:Church of the Heavenly Rest
CATEGORIES:CSA share pickup
END:VEVENT
BEGIN:VEVENT
DTSTART;TZID=America/New_York:20220904T113000
DTEND;TZID=America/New_York:20220904T150000
DTSTAMP:20260424T033417
CREATED:20220824T155954Z
LAST-MODIFIED:20220824T155954Z
UID:7110-1662291000-1662303600@www.carnegiehillcsa.org
SUMMARY:Stoneledge Farm Fall Visit
DESCRIPTION:Bring your family for a great day on the farm.  It is a great day to come to the farm and see how your vegetables are grown\, meet your farmers\, and walk the fields.  We have the grill hot and will have pork\, Stoneledge vegetarian chili made by Kim and Mickael of Paradis to Go (http://paradistogo.com) as well as grilled Sweet Corn. There will be fresh fruit\, Stoneledge Farm Coffee\, and water. \nWe ask that members bring a dish to share so that lunch is a giant potluck get-together.  If possible\, please bring your place settings\, utensils\, and cup.  We will have pick your own flowers available that day so if you could bring a pair of scissors to that would be great. \nNo pets\, please.
URL:https://www.carnegiehillcsa.org/calendar/2022-stoneledge-farm-fall-visit/
LOCATION:Stoneledge Farm\, 145 Garcia Lane\, Leeds\, New York\, 12451
CATEGORIES:farm visit
ORGANIZER;CN="Stoneledge Farm":MAILTO:info@stoneledge.farm
END:VEVENT
BEGIN:VEVENT
DTSTART;TZID=America/New_York:20220830T150000
DTEND;TZID=America/New_York:20220830T183000
DTSTAMP:20260424T033417
CREATED:20211201T192351Z
LAST-MODIFIED:20220414T232615Z
UID:6869-1661871600-1661884200@www.carnegiehillcsa.org
SUMMARY:Week #13: Coffee & Bean Shares; Lewis Waite Farm Delivery
DESCRIPTION:
URL:https://www.carnegiehillcsa.org/calendar/2022-week-13/
LOCATION:Church of the Heavenly Rest
CATEGORIES:CSA extras,CSA share pickup
END:VEVENT
BEGIN:VEVENT
DTSTART;TZID=America/New_York:20220823T150000
DTEND;TZID=America/New_York:20220823T183000
DTSTAMP:20260424T033417
CREATED:20211201T192225Z
LAST-MODIFIED:20220414T232529Z
UID:6867-1661266800-1661279400@www.carnegiehillcsa.org
SUMMARY:Week #12: Autumn Shares Begin
DESCRIPTION:Welcome to our Autumn Vegetable and Fruit Shares!
URL:https://www.carnegiehillcsa.org/calendar/2022-week-12/
LOCATION:Church of the Heavenly Rest
CATEGORIES:CSA share pickup
END:VEVENT
BEGIN:VEVENT
DTSTART;TZID=America/New_York:20220816T150000
DTEND;TZID=America/New_York:20220816T183000
DTSTAMP:20260424T033417
CREATED:20211201T192005Z
LAST-MODIFIED:20220414T232500Z
UID:6863-1660662000-1660674600@www.carnegiehillcsa.org
SUMMARY:Week #11: Last Pickup for Spring Shares; Lewis Waite Farm Delivery
DESCRIPTION:This is the last week for Spring Vegetable and Fruit Shares.
URL:https://www.carnegiehillcsa.org/calendar/2022-week-11/
LOCATION:Church of the Heavenly Rest
CATEGORIES:CSA extras,CSA share pickup
END:VEVENT
BEGIN:VEVENT
DTSTART;TZID=America/New_York:20220809T150000
DTEND;TZID=America/New_York:20220809T183000
DTSTAMP:20260424T033417
CREATED:20211201T191755Z
LAST-MODIFIED:20220414T232410Z
UID:6861-1660057200-1660069800@www.carnegiehillcsa.org
SUMMARY:Week #10
DESCRIPTION:
URL:https://www.carnegiehillcsa.org/calendar/2022-week-10/
LOCATION:Church of the Heavenly Rest
CATEGORIES:CSA share pickup
END:VEVENT
BEGIN:VEVENT
DTSTART;TZID=America/New_York:20220802T150000
DTEND;TZID=America/New_York:20220802T183000
DTSTAMP:20260424T033417
CREATED:20211201T191652Z
LAST-MODIFIED:20220414T232348Z
UID:6859-1659452400-1659465000@www.carnegiehillcsa.org
SUMMARY:Week #9: Coffee & Bean Shares; Lewis Waite Farm Delivery
DESCRIPTION:
URL:https://www.carnegiehillcsa.org/calendar/2022-week-9/
LOCATION:Church of the Heavenly Rest
CATEGORIES:CSA extras,CSA share pickup
END:VEVENT
BEGIN:VEVENT
DTSTART;TZID=America/New_York:20220726T150000
DTEND;TZID=America/New_York:20220726T183000
DTSTAMP:20260424T033417
CREATED:20211201T191508Z
LAST-MODIFIED:20220414T232308Z
UID:6857-1658847600-1658860200@www.carnegiehillcsa.org
SUMMARY:Week #8
DESCRIPTION:
URL:https://www.carnegiehillcsa.org/calendar/2022-week-8/
LOCATION:Church of the Heavenly Rest
CATEGORIES:CSA share pickup
END:VEVENT
BEGIN:VEVENT
DTSTART;TZID=America/New_York:20220719T150000
DTEND;TZID=America/New_York:20220719T183000
DTSTAMP:20260424T033417
CREATED:20211201T191357Z
LAST-MODIFIED:20220414T232239Z
UID:6855-1658242800-1658255400@www.carnegiehillcsa.org
SUMMARY:Week #7: Lewis Waite Farm Delivery
DESCRIPTION:
URL:https://www.carnegiehillcsa.org/calendar/2022-week-7/
LOCATION:Church of the Heavenly Rest
CATEGORIES:CSA extras,CSA share pickup
END:VEVENT
BEGIN:VEVENT
DTSTART;TZID=America/New_York:20220712T150000
DTEND;TZID=America/New_York:20220712T183000
DTSTAMP:20260424T033417
CREATED:20211201T191159Z
LAST-MODIFIED:20220414T232148Z
UID:6853-1657638000-1657650600@www.carnegiehillcsa.org
SUMMARY:Week #6
DESCRIPTION:
URL:https://www.carnegiehillcsa.org/calendar/2022-week-6/
LOCATION:Church of the Heavenly Rest
CATEGORIES:CSA share pickup
END:VEVENT
BEGIN:VEVENT
DTSTART;TZID=America/New_York:20220705T150000
DTEND;TZID=America/New_York:20220705T183000
DTSTAMP:20260424T033417
CREATED:20211201T191039Z
LAST-MODIFIED:20220414T232123Z
UID:6851-1657033200-1657045800@www.carnegiehillcsa.org
SUMMARY:Week #5: Fruit Shares Begin; Lewis Waite Farm Delivery
DESCRIPTION:This is the first week of fruit shares! They begin during our fifth CSA week given the climate and growing conditions in New York state.
URL:https://www.carnegiehillcsa.org/calendar/2022-week-5/
LOCATION:Church of the Heavenly Rest
CATEGORIES:CSA extras,CSA share pickup
END:VEVENT
BEGIN:VEVENT
DTSTART;TZID=America/New_York:20220628T150000
DTEND;TZID=America/New_York:20220628T183000
DTSTAMP:20260424T033417
CREATED:20211201T190729Z
LAST-MODIFIED:20220414T232036Z
UID:6849-1656428400-1656441000@www.carnegiehillcsa.org
SUMMARY:Week #4: Coffee & Bean Shares
DESCRIPTION:
URL:https://www.carnegiehillcsa.org/calendar/2022-week-4/
LOCATION:Church of the Heavenly Rest
CATEGORIES:CSA share pickup
END:VEVENT
BEGIN:VEVENT
DTSTART;VALUE=DATE:20220622
DTEND;VALUE=DATE:20220623
DTSTAMP:20260424T033417
CREATED:20220524T165452Z
LAST-MODIFIED:20220524T170157Z
UID:7025-1655856000-1655942399@www.carnegiehillcsa.org
SUMMARY:LAST DAY to Register for Fruit Shares
DESCRIPTION:This is the registration deadline for Fruit Shares. Reserve your fruit share by 6/22 at https://www.stoneledge.farm/index.php?route=csa/csa/csa&csa_id=32
URL:https://www.carnegiehillcsa.org/calendar/2022-cutoff-3/
ORGANIZER;CN="Stoneledge Farm":MAILTO:info@stoneledge.farm
END:VEVENT
END:VCALENDAR