BEGIN:VCALENDAR
VERSION:2.0
PRODID:-//Carnegie Hill CSA - ECPv6.15.17//NONSGML v1.0//EN
CALSCALE:GREGORIAN
METHOD:PUBLISH
X-ORIGINAL-URL:https://www.carnegiehillcsa.org
X-WR-CALDESC:Events for Carnegie Hill CSA
REFRESH-INTERVAL;VALUE=DURATION:PT1H
X-Robots-Tag:noindex
X-PUBLISHED-TTL:PT1H
BEGIN:VTIMEZONE
TZID:America/New_York
BEGIN:DAYLIGHT
TZOFFSETFROM:-0500
TZOFFSETTO:-0400
TZNAME:EDT
DTSTART:20220313T070000
END:DAYLIGHT
BEGIN:STANDARD
TZOFFSETFROM:-0400
TZOFFSETTO:-0500
TZNAME:EST
DTSTART:20221106T060000
END:STANDARD
BEGIN:DAYLIGHT
TZOFFSETFROM:-0500
TZOFFSETTO:-0400
TZNAME:EDT
DTSTART:20230312T070000
END:DAYLIGHT
BEGIN:STANDARD
TZOFFSETFROM:-0400
TZOFFSETTO:-0500
TZNAME:EST
DTSTART:20231105T060000
END:STANDARD
BEGIN:DAYLIGHT
TZOFFSETFROM:-0500
TZOFFSETTO:-0400
TZNAME:EDT
DTSTART:20240310T070000
END:DAYLIGHT
BEGIN:STANDARD
TZOFFSETFROM:-0400
TZOFFSETTO:-0500
TZNAME:EST
DTSTART:20241103T060000
END:STANDARD
BEGIN:DAYLIGHT
TZOFFSETFROM:-0500
TZOFFSETTO:-0400
TZNAME:EDT
DTSTART:20250309T070000
END:DAYLIGHT
BEGIN:STANDARD
TZOFFSETFROM:-0400
TZOFFSETTO:-0500
TZNAME:EST
DTSTART:20251102T060000
END:STANDARD
END:VTIMEZONE
BEGIN:VEVENT
DTSTART;TZID=America/New_York:20240910T143000
DTEND;TZID=America/New_York:20240910T183000
DTSTAMP:20260423T211507
CREATED:20240507T210017Z
LAST-MODIFIED:20240507T210017Z
UID:7602-1725978600-1725993000@www.carnegiehillcsa.org
SUMMARY:CSA Week #14
DESCRIPTION:
URL:https://www.carnegiehillcsa.org/calendar/2024-week-14/
LOCATION:Church of the Heavenly Rest
CATEGORIES:CSA share pickup
END:VEVENT
BEGIN:VEVENT
DTSTART;TZID=America/New_York:20240903T143000
DTEND;TZID=America/New_York:20240903T183000
DTSTAMP:20260423T211507
CREATED:20240507T205905Z
LAST-MODIFIED:20240507T205905Z
UID:7600-1725373800-1725388200@www.carnegiehillcsa.org
SUMMARY:CSA Week #13
DESCRIPTION:
URL:https://www.carnegiehillcsa.org/calendar/2024-week-13/
LOCATION:Church of the Heavenly Rest
CATEGORIES:CSA share pickup
END:VEVENT
BEGIN:VEVENT
DTSTART;TZID=America/New_York:20240827T143000
DTEND;TZID=America/New_York:20240827T183000
DTSTAMP:20260423T211507
CREATED:20240507T205748Z
LAST-MODIFIED:20240507T205748Z
UID:7598-1724769000-1724783400@www.carnegiehillcsa.org
SUMMARY:CSA Week #12: Autumn Shares Begin; Coffee & Bean Shares
DESCRIPTION:
URL:https://www.carnegiehillcsa.org/calendar/2024-week-12/
LOCATION:Church of the Heavenly Rest
CATEGORIES:CSA share pickup
END:VEVENT
BEGIN:VEVENT
DTSTART;TZID=America/New_York:20240820T143000
DTEND;TZID=America/New_York:20240820T183000
DTSTAMP:20260423T211507
CREATED:20240507T205501Z
LAST-MODIFIED:20240507T205501Z
UID:7596-1724164200-1724178600@www.carnegiehillcsa.org
SUMMARY:CSA Week #11: Last Pickup for Spring Shares
DESCRIPTION:
URL:https://www.carnegiehillcsa.org/calendar/2024-week-11/
LOCATION:Church of the Heavenly Rest
CATEGORIES:CSA share pickup
END:VEVENT
BEGIN:VEVENT
DTSTART;TZID=America/New_York:20240813T143000
DTEND;TZID=America/New_York:20240813T183000
DTSTAMP:20260423T211507
CREATED:20240507T205323Z
LAST-MODIFIED:20240507T205323Z
UID:7594-1723559400-1723573800@www.carnegiehillcsa.org
SUMMARY:CSA Week #10
DESCRIPTION:
URL:https://www.carnegiehillcsa.org/calendar/2024-week-10/
LOCATION:Church of the Heavenly Rest
CATEGORIES:CSA share pickup
END:VEVENT
BEGIN:VEVENT
DTSTART;TZID=America/New_York:20240806T143000
DTEND;TZID=America/New_York:20240806T183000
DTSTAMP:20260423T211507
CREATED:20240507T205134Z
LAST-MODIFIED:20240507T205154Z
UID:7592-1722954600-1722969000@www.carnegiehillcsa.org
SUMMARY:CSA Week #9: Coffee & Bean Shares
DESCRIPTION:
URL:https://www.carnegiehillcsa.org/calendar/2024-week-9/
LOCATION:Church of the Heavenly Rest
CATEGORIES:CSA share pickup
END:VEVENT
BEGIN:VEVENT
DTSTART;TZID=America/New_York:20240730T143000
DTEND;TZID=America/New_York:20240730T183000
DTSTAMP:20260423T211507
CREATED:20240507T204958Z
LAST-MODIFIED:20240507T204958Z
UID:7590-1722349800-1722364200@www.carnegiehillcsa.org
SUMMARY:CSA Week #8
DESCRIPTION:
URL:https://www.carnegiehillcsa.org/calendar/2024-week-8/
LOCATION:Church of the Heavenly Rest
CATEGORIES:CSA share pickup
END:VEVENT
BEGIN:VEVENT
DTSTART;TZID=America/New_York:20240723T143000
DTEND;TZID=America/New_York:20240723T183000
DTSTAMP:20260423T211507
CREATED:20240507T204856Z
LAST-MODIFIED:20240507T204856Z
UID:7588-1721745000-1721759400@www.carnegiehillcsa.org
SUMMARY:CSA Week #7
DESCRIPTION:
URL:https://www.carnegiehillcsa.org/calendar/2024-week-7/
LOCATION:Church of the Heavenly Rest
CATEGORIES:CSA share pickup
END:VEVENT
BEGIN:VEVENT
DTSTART;TZID=America/New_York:20240716T143000
DTEND;TZID=America/New_York:20240716T183000
DTSTAMP:20260423T211507
CREATED:20240507T204722Z
LAST-MODIFIED:20240507T204722Z
UID:7586-1721140200-1721154600@www.carnegiehillcsa.org
SUMMARY:CSA Week #6
DESCRIPTION:
URL:https://www.carnegiehillcsa.org/calendar/2024-week-6/
LOCATION:Church of the Heavenly Rest
CATEGORIES:CSA share pickup
END:VEVENT
BEGIN:VEVENT
DTSTART;TZID=America/New_York:20240709T143000
DTEND;TZID=America/New_York:20240709T183000
DTSTAMP:20260423T211507
CREATED:20240507T204601Z
LAST-MODIFIED:20240507T204620Z
UID:7584-1720535400-1720549800@www.carnegiehillcsa.org
SUMMARY:CSA Week #5: Fruit Shares Begin
DESCRIPTION:
URL:https://www.carnegiehillcsa.org/calendar/2024-week-5/
LOCATION:Church of the Heavenly Rest
CATEGORIES:CSA share pickup
END:VEVENT
BEGIN:VEVENT
DTSTART;TZID=America/New_York:20240702T143000
DTEND;TZID=America/New_York:20240702T183000
DTSTAMP:20260423T211507
CREATED:20240507T204407Z
LAST-MODIFIED:20240507T204407Z
UID:7582-1719930600-1719945000@www.carnegiehillcsa.org
SUMMARY:CSA Week #4: Coffee & Bean Shares
DESCRIPTION:
URL:https://www.carnegiehillcsa.org/calendar/2024-week-4/
LOCATION:Church of the Heavenly Rest
CATEGORIES:CSA share pickup
END:VEVENT
BEGIN:VEVENT
DTSTART;TZID=America/New_York:20240625T143000
DTEND;TZID=America/New_York:20240625T183000
DTSTAMP:20260423T211507
CREATED:20240507T204126Z
LAST-MODIFIED:20240507T204126Z
UID:7580-1719325800-1719340200@www.carnegiehillcsa.org
SUMMARY:CSA Week #3
DESCRIPTION:
URL:https://www.carnegiehillcsa.org/calendar/2024-week-3/
LOCATION:Church of the Heavenly Rest
CATEGORIES:CSA share pickup
END:VEVENT
BEGIN:VEVENT
DTSTART;TZID=America/New_York:20240618T180000
DTEND;TZID=America/New_York:20240618T210000
DTSTAMP:20260423T211507
CREATED:20240507T212934Z
LAST-MODIFIED:20240507T212934Z
UID:7620-1718733600-1718744400@www.carnegiehillcsa.org
SUMMARY:Museum Mile Festival
DESCRIPTION:Kick off the summer with a block party & FREE museum night on the Upper East Side! \nFree admission to many museums including the Met\, Guggenheim\, Cooper Hewitt\, Neue Galerie\, Jewish Museum\, Museum of the City of New York\, El Museo del Barrio\, and The Africa Center. \nIn-between museum hopping\, stop by the Church of the Heavenly Rest for refreshments\, face painting\, art\, and to learn more about community supported agriculture − and maybe pick up an organic vegetable or two!
URL:https://www.carnegiehillcsa.org/calendar/2024-museum-mile-festival/
LOCATION:Fifth Ave between 82nd – 105th Streets
CATEGORIES:community event
END:VEVENT
BEGIN:VEVENT
DTSTART;TZID=America/New_York:20240618T143000
DTEND;TZID=America/New_York:20240618T183000
DTSTAMP:20260423T211507
CREATED:20240507T203952Z
LAST-MODIFIED:20240507T204025Z
UID:7576-1718721000-1718735400@www.carnegiehillcsa.org
SUMMARY:CSA Week #2
DESCRIPTION:
URL:https://www.carnegiehillcsa.org/calendar/2024-week-2/
LOCATION:Church of the Heavenly Rest
CATEGORIES:CSA share pickup
END:VEVENT
BEGIN:VEVENT
DTSTART;TZID=America/New_York:20240611T143000
DTEND;TZID=America/New_York:20240611T183000
DTSTAMP:20260423T211507
CREATED:20240507T203827Z
LAST-MODIFIED:20240507T203827Z
UID:7574-1718116200-1718130600@www.carnegiehillcsa.org
SUMMARY:CSA Week #1 − Vegetable Pickups Begin; Coffee & Bean Shares
DESCRIPTION:This will be our first weekly vegetable share pickup of the 2024 harvest season. If you have a mushroom or bread share\, this will also be our first weekly mushroom share and bread share delivery. June’s coffee shares and bean shares will also be delivered today. \nFruit shares begin week #5.
URL:https://www.carnegiehillcsa.org/calendar/2024-week-1/
LOCATION:Church of the Heavenly Rest
CATEGORIES:CSA share pickup
END:VEVENT
BEGIN:VEVENT
DTSTART;TZID=America/New_York:20240512T090000
DTEND;TZID=America/New_York:20240512T160000
DTSTAMP:20260423T211507
CREATED:20240507T202906Z
LAST-MODIFIED:20240507T202906Z
UID:7570-1715504400-1715529600@www.carnegiehillcsa.org
SUMMARY:Farm Visit & Plant Sale
DESCRIPTION:Stoneledge Farm’s spring farm visit and annual plant sale will take place on Mother’s Day weekend! Come meet your farmers\, take a self-guided field walk around the farm\, and take home some plants. Stoneledge will have 80+ varieties of vegetable garden plants\, herbs\, flowers\, and hanging baskets available. Farmers Peter\, Candice\, Deborah\, and Pete Sr. will be around to chat vegetables and answer any questions.
URL:https://www.carnegiehillcsa.org/calendar/2024-farm-visit-plant-sale-3/
LOCATION:Stoneledge Farm\, 145 Garcia Lane\, Leeds\, New York\, 12451
CATEGORIES:farm visit
ORGANIZER;CN="Stoneledge Farm":MAILTO:info@stoneledge.farm
END:VEVENT
BEGIN:VEVENT
DTSTART;TZID=America/New_York:20240511T090000
DTEND;TZID=America/New_York:20240511T160000
DTSTAMP:20260423T211507
CREATED:20240507T202735Z
LAST-MODIFIED:20240507T202735Z
UID:7568-1715418000-1715443200@www.carnegiehillcsa.org
SUMMARY:Farm Visit & Plant Sale
DESCRIPTION:Stoneledge Farm’s spring farm visit and annual plant sale will take place on Mother’s Day weekend! Come meet your farmers\, take a self-guided field walk around the farm\, and take home some plants. Stoneledge will have 80+ varieties of vegetable garden plants\, herbs\, flowers\, and hanging baskets available. Farmers Peter\, Candice\, Deborah\, and Pete Sr. will be around to chat vegetables and answer any questions.
URL:https://www.carnegiehillcsa.org/calendar/2024-farm-visit-plant-sale-2/
LOCATION:Stoneledge Farm\, 145 Garcia Lane\, Leeds\, New York\, 12451
CATEGORIES:farm visit
ORGANIZER;CN="Stoneledge Farm":MAILTO:info@stoneledge.farm
END:VEVENT
BEGIN:VEVENT
DTSTART;TZID=America/New_York:20240510T090000
DTEND;TZID=America/New_York:20240510T160000
DTSTAMP:20260423T211507
CREATED:20240507T202509Z
LAST-MODIFIED:20240507T202509Z
UID:7566-1715331600-1715356800@www.carnegiehillcsa.org
SUMMARY:Farm Visit & Plant Sale
DESCRIPTION:Stoneledge Farm’s spring farm visit and annual plant sale will take place on Mother’s Day weekend! Come meet your farmers\, take a self-guided field walk around the farm\, and take home some plants. Stoneledge will have 80+ varieties of vegetable garden plants\, herbs\, flowers\, and hanging baskets available. Farmers Peter\, Candice\, Deborah\, and Pete Sr. will be around to chat vegetables and answer any questions.
URL:https://www.carnegiehillcsa.org/calendar/2024-farm-visit-plant-sale-1/
LOCATION:Stoneledge Farm\, 145 Garcia Lane\, Leeds\, New York\, 12451
CATEGORIES:farm visit
ORGANIZER;CN="Stoneledge Farm":MAILTO:info@stoneledge.farm
END:VEVENT
BEGIN:VEVENT
DTSTART;TZID=America/New_York:20231031T143000
DTEND;TZID=America/New_York:20231031T183000
DTSTAMP:20260423T211507
CREATED:20230425T161240Z
LAST-MODIFIED:20230425T161240Z
UID:7351-1698762600-1698777000@www.carnegiehillcsa.org
SUMMARY:Week #22: Last Vegetable & Fruit Pickup
DESCRIPTION:
URL:https://www.carnegiehillcsa.org/calendar/2023-week-22/
LOCATION:Church of the Heavenly Rest
CATEGORIES:CSA share pickup
END:VEVENT
BEGIN:VEVENT
DTSTART;TZID=America/New_York:20231024T143000
DTEND;TZID=America/New_York:20231024T183000
DTSTAMP:20260423T211507
CREATED:20230425T161117Z
LAST-MODIFIED:20230425T161117Z
UID:7349-1698157800-1698172200@www.carnegiehillcsa.org
SUMMARY:Week #21: Coffee & Bean Shares
DESCRIPTION:
URL:https://www.carnegiehillcsa.org/calendar/2023-week-21/
LOCATION:Church of the Heavenly Rest
CATEGORIES:CSA share pickup
END:VEVENT
BEGIN:VEVENT
DTSTART;TZID=America/New_York:20231017T143000
DTEND;TZID=America/New_York:20231017T183000
DTSTAMP:20260423T211507
CREATED:20230425T161003Z
LAST-MODIFIED:20230425T161003Z
UID:7347-1697553000-1697567400@www.carnegiehillcsa.org
SUMMARY:Week #20
DESCRIPTION:
URL:https://www.carnegiehillcsa.org/calendar/2023-week-20/
LOCATION:Church of the Heavenly Rest
CATEGORIES:CSA share pickup
END:VEVENT
BEGIN:VEVENT
DTSTART;TZID=America/New_York:20231010T143000
DTEND;TZID=America/New_York:20231010T183000
DTSTAMP:20260423T211507
CREATED:20230425T160844Z
LAST-MODIFIED:20230425T162523Z
UID:7345-1696948200-1696962600@www.carnegiehillcsa.org
SUMMARY:Week #19
DESCRIPTION:
URL:https://www.carnegiehillcsa.org/calendar/2023-week-19/
LOCATION:Church of the Heavenly Rest
CATEGORIES:CSA share pickup
END:VEVENT
BEGIN:VEVENT
DTSTART;TZID=America/New_York:20231003T143000
DTEND;TZID=America/New_York:20231003T183000
DTSTAMP:20260423T211507
CREATED:20230425T160721Z
LAST-MODIFIED:20230425T160721Z
UID:7343-1696343400-1696357800@www.carnegiehillcsa.org
SUMMARY:Week #18
DESCRIPTION:
URL:https://www.carnegiehillcsa.org/calendar/2023-week-18/
LOCATION:Church of the Heavenly Rest
CATEGORIES:CSA share pickup
END:VEVENT
BEGIN:VEVENT
DTSTART;TZID=America/New_York:20230926T143000
DTEND;TZID=America/New_York:20230926T183000
DTSTAMP:20260423T211507
CREATED:20230425T160620Z
LAST-MODIFIED:20230425T160620Z
UID:7341-1695738600-1695753000@www.carnegiehillcsa.org
SUMMARY:Week #17: Coffee & Bean Shares
DESCRIPTION:
URL:https://www.carnegiehillcsa.org/calendar/2023-week-17/
LOCATION:Church of the Heavenly Rest
CATEGORIES:CSA share pickup
END:VEVENT
BEGIN:VEVENT
DTSTART;TZID=America/New_York:20230919T143000
DTEND;TZID=America/New_York:20230919T183000
DTSTAMP:20260423T211507
CREATED:20230425T160446Z
LAST-MODIFIED:20230425T160446Z
UID:7339-1695133800-1695148200@www.carnegiehillcsa.org
SUMMARY:Week #16
DESCRIPTION:
URL:https://www.carnegiehillcsa.org/calendar/2023-week-16/
LOCATION:Church of the Heavenly Rest
CATEGORIES:CSA share pickup
END:VEVENT
BEGIN:VEVENT
DTSTART;TZID=America/New_York:20230912T143000
DTEND;TZID=America/New_York:20230912T183000
DTSTAMP:20260423T211507
CREATED:20230425T160328Z
LAST-MODIFIED:20230425T160328Z
UID:7337-1694529000-1694543400@www.carnegiehillcsa.org
SUMMARY:Week #15
DESCRIPTION:
URL:https://www.carnegiehillcsa.org/calendar/2023-week-15/
LOCATION:Church of the Heavenly Rest
CATEGORIES:CSA share pickup
END:VEVENT
BEGIN:VEVENT
DTSTART;TZID=America/New_York:20230905T143000
DTEND;TZID=America/New_York:20230905T183000
DTSTAMP:20260423T211507
CREATED:20230425T155952Z
LAST-MODIFIED:20230425T155952Z
UID:7335-1693924200-1693938600@www.carnegiehillcsa.org
SUMMARY:Week #14
DESCRIPTION:
URL:https://www.carnegiehillcsa.org/calendar/2023-week-14/
LOCATION:Church of the Heavenly Rest
CATEGORIES:CSA share pickup
END:VEVENT
BEGIN:VEVENT
DTSTART;TZID=America/New_York:20230829T133000
DTEND;TZID=America/New_York:20230829T173000
DTSTAMP:20260423T211507
CREATED:20230425T155622Z
LAST-MODIFIED:20230425T162616Z
UID:7333-1693315800-1693330200@www.carnegiehillcsa.org
SUMMARY:Week #13: Coffee & Bean Shares
DESCRIPTION:
URL:https://www.carnegiehillcsa.org/calendar/2023-week-13/
LOCATION:Church of the Heavenly Rest
CATEGORIES:CSA share pickup
END:VEVENT
BEGIN:VEVENT
DTSTART;TZID=America/New_York:20230822T133000
DTEND;TZID=America/New_York:20230822T173000
DTSTAMP:20260423T211507
CREATED:20230425T155413Z
LAST-MODIFIED:20230425T155413Z
UID:7331-1692711000-1692725400@www.carnegiehillcsa.org
SUMMARY:Week #12: Autumn Shares Begin
DESCRIPTION:
URL:https://www.carnegiehillcsa.org/calendar/2023-week-12/
LOCATION:Church of the Heavenly Rest
CATEGORIES:CSA share pickup
END:VEVENT
BEGIN:VEVENT
DTSTART;TZID=America/New_York:20230815T143000
DTEND;TZID=America/New_York:20230815T183000
DTSTAMP:20260423T211507
CREATED:20230425T155207Z
LAST-MODIFIED:20230425T155207Z
UID:7329-1692109800-1692124200@www.carnegiehillcsa.org
SUMMARY:Week #11: Last Pickup for Spring Shares
DESCRIPTION:
URL:https://www.carnegiehillcsa.org/calendar/2023-week-11/
LOCATION:Church of the Heavenly Rest
CATEGORIES:CSA share pickup
END:VEVENT
END:VCALENDAR