BEGIN:VCALENDAR
VERSION:2.0
PRODID:-//Carnegie Hill CSA - ECPv6.15.17//NONSGML v1.0//EN
CALSCALE:GREGORIAN
METHOD:PUBLISH
X-WR-CALNAME:Carnegie Hill CSA
X-ORIGINAL-URL:https://www.carnegiehillcsa.org
X-WR-CALDESC:Events for Carnegie Hill CSA
REFRESH-INTERVAL;VALUE=DURATION:PT1H
X-Robots-Tag:noindex
X-PUBLISHED-TTL:PT1H
BEGIN:VTIMEZONE
TZID:America/New_York
BEGIN:DAYLIGHT
TZOFFSETFROM:-0500
TZOFFSETTO:-0400
TZNAME:EDT
DTSTART:20170312T070000
END:DAYLIGHT
BEGIN:STANDARD
TZOFFSETFROM:-0400
TZOFFSETTO:-0500
TZNAME:EST
DTSTART:20171105T060000
END:STANDARD
BEGIN:DAYLIGHT
TZOFFSETFROM:-0500
TZOFFSETTO:-0400
TZNAME:EDT
DTSTART:20180311T070000
END:DAYLIGHT
BEGIN:STANDARD
TZOFFSETFROM:-0400
TZOFFSETTO:-0500
TZNAME:EST
DTSTART:20181104T060000
END:STANDARD
BEGIN:DAYLIGHT
TZOFFSETFROM:-0500
TZOFFSETTO:-0400
TZNAME:EDT
DTSTART:20190310T070000
END:DAYLIGHT
BEGIN:STANDARD
TZOFFSETFROM:-0400
TZOFFSETTO:-0500
TZNAME:EST
DTSTART:20191103T060000
END:STANDARD
END:VTIMEZONE
BEGIN:VEVENT
DTSTART;TZID=America/New_York:20181113T103000
DTEND;TZID=America/New_York:20181113T135000
DTSTAMP:20260425T170526
CREATED:20180510T032020Z
LAST-MODIFIED:20180510T032020Z
UID:4833-1542105000-1542117000@www.carnegiehillcsa.org
SUMMARY:Last vegetable and fruit pickup
DESCRIPTION:
URL:https://www.carnegiehillcsa.org/calendar/last-vegetable-and-fruit-pickup/
LOCATION:NY
END:VEVENT
BEGIN:VEVENT
DTSTART;TZID=America/New_York:20181106T103000
DTEND;TZID=America/New_York:20181106T135000
DTSTAMP:20260425T170526
CREATED:20180510T031950Z
LAST-MODIFIED:20180510T031950Z
UID:4831-1541500200-1541512200@www.carnegiehillcsa.org
SUMMARY:Lewis Waite Farm Delivery
DESCRIPTION:
URL:https://www.carnegiehillcsa.org/calendar/lewis-waite-farm-delivery-12/
LOCATION:NY
END:VEVENT
BEGIN:VEVENT
DTSTART;TZID=America/New_York:20181023T113000
DTEND;TZID=America/New_York:20181023T145000
DTSTAMP:20260425T170526
CREATED:20180510T031916Z
LAST-MODIFIED:20180510T031916Z
UID:4829-1540294200-1540306200@www.carnegiehillcsa.org
SUMMARY:Lewis Waite Farm Delivery
DESCRIPTION:
URL:https://www.carnegiehillcsa.org/calendar/lewis-waite-farm-delivery-11/
LOCATION:NY
END:VEVENT
BEGIN:VEVENT
DTSTART;TZID=America/New_York:20181009T113000
DTEND;TZID=America/New_York:20181009T145000
DTSTAMP:20260425T170526
CREATED:20180510T031840Z
LAST-MODIFIED:20180510T031840Z
UID:4827-1539084600-1539096600@www.carnegiehillcsa.org
SUMMARY:Lewis Waite Farm Delivery
DESCRIPTION:
URL:https://www.carnegiehillcsa.org/calendar/lewis-waite-farm-delivery-10/
LOCATION:NY
END:VEVENT
BEGIN:VEVENT
DTSTART;TZID=America/New_York:20180925T113000
DTEND;TZID=America/New_York:20180925T145000
DTSTAMP:20260425T170526
CREATED:20180510T031802Z
LAST-MODIFIED:20180510T031802Z
UID:4825-1537875000-1537887000@www.carnegiehillcsa.org
SUMMARY:Lewis Waite Farm Delivery
DESCRIPTION:
URL:https://www.carnegiehillcsa.org/calendar/lewis-waite-farm-delivery-9/
LOCATION:Church of the Heavenly Rest
END:VEVENT
BEGIN:VEVENT
DTSTART;TZID=America/New_York:20180918T113000
DTEND;TZID=America/New_York:20180918T145000
DTSTAMP:20260425T170526
CREATED:20180823T041408Z
LAST-MODIFIED:20180823T041408Z
UID:5476-1537270200-1537282200@www.carnegiehillcsa.org
SUMMARY:**IMPORTANT** PICK UP LOCATION CHANGE
DESCRIPTION:Due to the Jewish Holidays\, our normal pickup site at the Church of the Heavenly Rest\, will not be available to us. (Park Avenue Synagogue is using the  space) Please pickup your share at \nChurch of the Holy Trinity\n316 East 88th Street\nBetween Second & First Aves
URL:https://www.carnegiehillcsa.org/calendar/important-pick-up-location-change-2/
LOCATION:316 East 88th Street\, New York\, NY\, United States
END:VEVENT
BEGIN:VEVENT
DTSTART;TZID=America/New_York:20180911T113000
DTEND;TZID=America/New_York:20180911T145000
DTSTAMP:20260425T170526
CREATED:20180823T041154Z
LAST-MODIFIED:20180823T041154Z
UID:5470-1536665400-1536677400@www.carnegiehillcsa.org
SUMMARY:**IMPORTANT** PICK UP LOCATION CHANGE
DESCRIPTION:Due to the Jewish Holidays\, our normal pickup site at the Church of the Heavenly Rest\, will not be available to us. (Park Avenue Synagogue is using the  space) Please pickup your share at \nChurch of the Holy Trinity\n316 East 88thStreet\nBetween Second & First Aves
URL:https://www.carnegiehillcsa.org/calendar/important-pick-up-location-change/
LOCATION:316 East 88th Street\, New York\, NY\, United States
END:VEVENT
BEGIN:VEVENT
DTSTART;TZID=America/New_York:20180911T113000
DTEND;TZID=America/New_York:20180911T145000
DTSTAMP:20260425T170526
CREATED:20180510T031609Z
LAST-MODIFIED:20180510T031609Z
UID:4822-1536665400-1536677400@www.carnegiehillcsa.org
SUMMARY:Fall Fruit Shares Begin
DESCRIPTION:
URL:https://www.carnegiehillcsa.org/calendar/fall-fruit-shares-begin/
LOCATION:NY
END:VEVENT
BEGIN:VEVENT
DTSTART;TZID=America/New_York:20180904T113000
DTEND;TZID=America/New_York:20180904T145000
DTSTAMP:20260425T170526
CREATED:20180510T031528Z
LAST-MODIFIED:20180510T031528Z
UID:4820-1536060600-1536072600@www.carnegiehillcsa.org
SUMMARY:Last Pickup for Spring Fruit Shares
DESCRIPTION:
URL:https://www.carnegiehillcsa.org/calendar/last-pickup-for-spring-fruit-shares/
LOCATION:NY
END:VEVENT
BEGIN:VEVENT
DTSTART;TZID=America/New_York:20180901T070000
DTEND;TZID=America/New_York:20180901T110000
DTSTAMP:20260425T170526
CREATED:20180721T000757Z
LAST-MODIFIED:20180721T000935Z
UID:5379-1535785200-1535799600@www.carnegiehillcsa.org
SUMMARY:Fall Farm Festival
DESCRIPTION:More details to come. Including the exact time of the event.
URL:https://www.carnegiehillcsa.org/calendar/fall-farm-festival/
LOCATION:Stoneledge Farm\, 145 Garcia Lane\, Leeds\, New York\, 12451
ORGANIZER;CN="Stoneledge Farm":MAILTO:info@stoneledge.farm
END:VEVENT
BEGIN:VEVENT
DTSTART;TZID=America/New_York:20180828T113000
DTEND;TZID=America/New_York:20180828T145000
DTSTAMP:20260425T170526
CREATED:20180510T031440Z
LAST-MODIFIED:20180510T031440Z
UID:4818-1535455800-1535467800@www.carnegiehillcsa.org
SUMMARY:Lewis Waite Farm Delivery
DESCRIPTION:
URL:https://www.carnegiehillcsa.org/calendar/lewis-waite-farm-delivery-8/
LOCATION:NY
END:VEVENT
BEGIN:VEVENT
DTSTART;TZID=America/New_York:20180828T113000
DTEND;TZID=America/New_York:20180828T145000
DTSTAMP:20260425T170526
CREATED:20180510T031358Z
LAST-MODIFIED:20180510T031358Z
UID:4816-1535455800-1535467800@www.carnegiehillcsa.org
SUMMARY:Fall Vegetable Shares Begin
DESCRIPTION:
URL:https://www.carnegiehillcsa.org/calendar/fall-vegetable-shares-begin/
LOCATION:NY
END:VEVENT
BEGIN:VEVENT
DTSTART;TZID=America/New_York:20180821T113000
DTEND;TZID=America/New_York:20180821T145000
DTSTAMP:20260425T170526
CREATED:20180510T031316Z
LAST-MODIFIED:20180510T031316Z
UID:4814-1534851000-1534863000@www.carnegiehillcsa.org
SUMMARY:Last Pickup for Spring Vegetable Shares
DESCRIPTION:
URL:https://www.carnegiehillcsa.org/calendar/last-pickup-for-spring-vegetable-shares/
LOCATION:NY
END:VEVENT
BEGIN:VEVENT
DTSTART;TZID=America/New_York:20180814T113000
DTEND;TZID=America/New_York:20180814T145000
DTSTAMP:20260425T170526
CREATED:20180510T031209Z
LAST-MODIFIED:20180510T031209Z
UID:4812-1534246200-1534258200@www.carnegiehillcsa.org
SUMMARY:Lewis Waite Farm Delivery
DESCRIPTION:
URL:https://www.carnegiehillcsa.org/calendar/lewis-waite-farm-delivery-7/
LOCATION:NY
END:VEVENT
BEGIN:VEVENT
DTSTART;TZID=America/New_York:20180731T113000
DTEND;TZID=America/New_York:20180731T145000
DTSTAMP:20260425T170526
CREATED:20180510T031123Z
LAST-MODIFIED:20180510T031123Z
UID:4810-1533036600-1533048600@www.carnegiehillcsa.org
SUMMARY:Lewis Waite Farm Delivery
DESCRIPTION:
URL:https://www.carnegiehillcsa.org/calendar/lewis-waite-farm-delivery-6/
LOCATION:NY
END:VEVENT
BEGIN:VEVENT
DTSTART;TZID=America/New_York:20180717T113000
DTEND;TZID=America/New_York:20180717T145000
DTSTAMP:20260425T170526
CREATED:20180510T031053Z
LAST-MODIFIED:20180510T031053Z
UID:4808-1531827000-1531839000@www.carnegiehillcsa.org
SUMMARY:Lewis Waite Farm Delivery
DESCRIPTION:
URL:https://www.carnegiehillcsa.org/calendar/lewis-waite-farm-delivery-5/
LOCATION:NY
END:VEVENT
BEGIN:VEVENT
DTSTART;TZID=America/New_York:20180703T113000
DTEND;TZID=America/New_York:20180703T145000
DTSTAMP:20260425T170526
CREATED:20180510T031010Z
LAST-MODIFIED:20180510T031010Z
UID:4806-1530617400-1530629400@www.carnegiehillcsa.org
SUMMARY:Lewis Waite Farm Delivery
DESCRIPTION:
URL:https://www.carnegiehillcsa.org/calendar/lewis-waite-farm-delivery-4/
LOCATION:NY
END:VEVENT
BEGIN:VEVENT
DTSTART;TZID=America/New_York:20180703T113000
DTEND;TZID=America/New_York:20180703T145000
DTSTAMP:20260425T170526
CREATED:20180510T030934Z
LAST-MODIFIED:20180510T030934Z
UID:4804-1530617400-1530629400@www.carnegiehillcsa.org
SUMMARY:First Fruit Delivery
DESCRIPTION:
URL:https://www.carnegiehillcsa.org/calendar/first-fruit-delivery/
LOCATION:NY
END:VEVENT
BEGIN:VEVENT
DTSTART;TZID=America/New_York:20180619T113000
DTEND;TZID=America/New_York:20180619T143000
DTSTAMP:20260425T170526
CREATED:20180510T030636Z
LAST-MODIFIED:20180510T030636Z
UID:4801-1529407800-1529418600@www.carnegiehillcsa.org
SUMMARY:Lewis Waite Farm Delivery
DESCRIPTION:
URL:https://www.carnegiehillcsa.org/calendar/lewis-waite-farm-delivery-3/
LOCATION:NY
END:VEVENT
BEGIN:VEVENT
DTSTART;TZID=America/New_York:20180612T130000
DTEND;TZID=America/New_York:20180612T160000
DTSTAMP:20260425T170526
CREATED:20180510T030550Z
LAST-MODIFIED:20180510T030550Z
UID:4799-1528808400-1528819200@www.carnegiehillcsa.org
SUMMARY:Museum Mile; CHR Block Party
DESCRIPTION:
URL:https://www.carnegiehillcsa.org/calendar/museum-mile-chr-block-party/
LOCATION:NY
END:VEVENT
BEGIN:VEVENT
DTSTART;TZID=America/New_York:20180605T113000
DTEND;TZID=America/New_York:20180605T145000
DTSTAMP:20260425T170526
CREATED:20180510T030500Z
LAST-MODIFIED:20180510T030829Z
UID:4797-1528198200-1528210200@www.carnegiehillcsa.org
SUMMARY:Lewis Waite Farm Delivery
DESCRIPTION:
URL:https://www.carnegiehillcsa.org/calendar/lewis-waite-farm-delivery-2/
LOCATION:Church of the Heavenly Rest
END:VEVENT
BEGIN:VEVENT
DTSTART;TZID=America/New_York:20180605T113000
DTEND;TZID=America/New_York:20180605T145000
DTSTAMP:20260425T170526
CREATED:20180510T030357Z
LAST-MODIFIED:20180510T030849Z
UID:4794-1528198200-1528210200@www.carnegiehillcsa.org
SUMMARY:Vegetable Pickups Begin
DESCRIPTION:
URL:https://www.carnegiehillcsa.org/calendar/vegetable-pickups-begin/
LOCATION:Church of the Heavenly Rest
END:VEVENT
BEGIN:VEVENT
DTSTART;TZID=America/New_York:20180512T090000
DTEND;TZID=America/New_York:20180512T113000
DTSTAMP:20260425T170526
CREATED:20180510T032546Z
LAST-MODIFIED:20180510T032710Z
UID:4837-1526115600-1526124600@www.carnegiehillcsa.org
SUMMARY:Spring Farm Visit
DESCRIPTION:Come and visit the farm\, meet the farm crew\, and learn about the CSA. They will also have our own vegetable transplants for sale.  You can start your backyard garden with Stoneledge Farm certified organic transplants.  The Stoneledge Farm online marketplace products will be available for sale and to taste as well.  Farm walks and field tours will also be going on that day.  A great way to get a chance to see where and how your organic vegetables grow.
URL:https://www.carnegiehillcsa.org/calendar/spring-farm-visit/
LOCATION:Stoneledge Farm\, 145 Garcia Lane\, Leeds\, New York\, 12451
ORGANIZER;CN="Stoneledge Farm":MAILTO:info@stoneledge.farm
END:VEVENT
BEGIN:VEVENT
DTSTART;TZID=America/New_York:20180417T113000
DTEND;TZID=America/New_York:20180417T145000
DTSTAMP:20260425T170526
CREATED:20180412T022558Z
LAST-MODIFIED:20180510T030757Z
UID:4137-1523964600-1523976600@www.carnegiehillcsa.org
SUMMARY:Lewis Waite Farm Delivery
DESCRIPTION:
URL:https://www.carnegiehillcsa.org/calendar/lewis-waite-farm-delivery/
LOCATION:Pickup at Bonnie’s
END:VEVENT
END:VCALENDAR