BEGIN:VCALENDAR
VERSION:2.0
PRODID:-//Carnegie Hill CSA - ECPv6.15.17//NONSGML v1.0//EN
CALSCALE:GREGORIAN
METHOD:PUBLISH
X-ORIGINAL-URL:https://www.carnegiehillcsa.org
X-WR-CALDESC:Events for Carnegie Hill CSA
REFRESH-INTERVAL;VALUE=DURATION:PT1H
X-Robots-Tag:noindex
X-PUBLISHED-TTL:PT1H
BEGIN:VTIMEZONE
TZID:America/New_York
BEGIN:DAYLIGHT
TZOFFSETFROM:-0500
TZOFFSETTO:-0400
TZNAME:EDT
DTSTART:20180311T070000
END:DAYLIGHT
BEGIN:STANDARD
TZOFFSETFROM:-0400
TZOFFSETTO:-0500
TZNAME:EST
DTSTART:20181104T060000
END:STANDARD
BEGIN:DAYLIGHT
TZOFFSETFROM:-0500
TZOFFSETTO:-0400
TZNAME:EDT
DTSTART:20190310T070000
END:DAYLIGHT
BEGIN:STANDARD
TZOFFSETFROM:-0400
TZOFFSETTO:-0500
TZNAME:EST
DTSTART:20191103T060000
END:STANDARD
BEGIN:DAYLIGHT
TZOFFSETFROM:-0500
TZOFFSETTO:-0400
TZNAME:EDT
DTSTART:20200308T070000
END:DAYLIGHT
BEGIN:STANDARD
TZOFFSETFROM:-0400
TZOFFSETTO:-0500
TZNAME:EST
DTSTART:20201101T060000
END:STANDARD
BEGIN:DAYLIGHT
TZOFFSETFROM:-0500
TZOFFSETTO:-0400
TZNAME:EDT
DTSTART:20210314T070000
END:DAYLIGHT
BEGIN:STANDARD
TZOFFSETFROM:-0400
TZOFFSETTO:-0500
TZNAME:EST
DTSTART:20211107T060000
END:STANDARD
END:VTIMEZONE
BEGIN:VEVENT
DTSTART;TZID=America/New_York:20200421T113000
DTEND;TZID=America/New_York:20200421T145000
DTSTAMP:20260425T112845
CREATED:20200213T032004Z
LAST-MODIFIED:20200507T022146Z
UID:5981-1587468600-1587480600@www.carnegiehillcsa.org
SUMMARY:[CANCELED] Lewis Waite Farm Delivery
DESCRIPTION:Members can place Lewis Waite orders via UPS at https://csalewiswaitefarm.com/. LWF is shipping cheeses\, milk\, bread and pizza\, jams\, butter\, grass fed meat\, pastured poultry\, and much more from a coalition of 60 small family farms in Upstate NY and Vermont. All meats\, poultry\, and dairy are free of growth hormones and antibiotics. Many vegan\, organic\, dairy-free\, and gluten-free items available. Members rave about the quality.
URL:https://www.carnegiehillcsa.org/calendar/lewis-waite-farm-delivery-31/
LOCATION:Update: Now delivering via UPS
END:VEVENT
BEGIN:VEVENT
DTSTART;TZID=America/New_York:20200303T103000
DTEND;TZID=America/New_York:20200303T135000
DTSTAMP:20260425T112845
CREATED:20200213T031302Z
LAST-MODIFIED:20200213T031742Z
UID:5979-1583231400-1583243400@www.carnegiehillcsa.org
SUMMARY:Lewis Waite Farm Delivery
DESCRIPTION:Place orders for pastured eggs\, cheeses\, milk\, bread and pizza\, jams\, butter\, grass fed meat\, pastured poultry\, and much more from a coalition of 60 small family farms in Upstate NY and Vermont. All meats\, poultry\, and dairy are free of growth hormones and antibiotics. Many vegan\, organic\, dairy-free\, and gluten-free items available. Members rave about the quality.
URL:https://www.carnegiehillcsa.org/calendar/lewis-waite-farm-delivery-30/
LOCATION:Pickup will be hosted at a member’s apartment on the UES. The address will be provided in confirmation email.
END:VEVENT
BEGIN:VEVENT
DTSTART;TZID=America/New_York:20200204T103000
DTEND;TZID=America/New_York:20200204T135000
DTSTAMP:20260425T112845
CREATED:20200213T031038Z
LAST-MODIFIED:20200213T031554Z
UID:5976-1580812200-1580824200@www.carnegiehillcsa.org
SUMMARY:Lewis Waite Farm Delivery
DESCRIPTION:Place orders for pastured eggs\, cheeses\, milk\, bread and pizza\, jams\, butter\, grass fed meat\, pastured poultry\, and much more from a coalition of 60 small family farms in Upstate NY and Vermont. All meats\, poultry\, and dairy are free of growth hormones and antibiotics. Many vegan\, organic\, dairy-free\, and gluten-free items available. Members rave about the quality.
URL:https://www.carnegiehillcsa.org/calendar/lewis-waite-farm-delivery-29/
LOCATION:Pickup will be hosted at a member’s apartment on the UES. The address will be provided in confirmation email.
END:VEVENT
BEGIN:VEVENT
DTSTART;TZID=America/New_York:20200107T103000
DTEND;TZID=America/New_York:20200107T135000
DTSTAMP:20260425T112845
CREATED:20200213T030830Z
LAST-MODIFIED:20200213T030830Z
UID:5974-1578393000-1578405000@www.carnegiehillcsa.org
SUMMARY:Lewis Waite Farm Delivery
DESCRIPTION:Place orders for pastured eggs\, cheeses\, milk\, bread and pizza\, jams\, butter\, grass fed meat\, pastured poultry\, and much more from a coalition of 60 small family farms in Upstate NY and Vermont. All meats\, poultry\, and dairy are free of growth hormones and antibiotics. Many vegan\, organic\, dairy-free\, and gluten-free items available. Members rave about the quality.
URL:https://www.carnegiehillcsa.org/calendar/lewis-waite-farm-delivery-28/
LOCATION:Pickup will be hosted at a member’s apartment on the UES. The address will be provided in confirmation email.
END:VEVENT
BEGIN:VEVENT
DTSTART;TZID=America/New_York:20191210T103000
DTEND;TZID=America/New_York:20191210T135000
DTSTAMP:20260425T112845
CREATED:20200213T030519Z
LAST-MODIFIED:20200213T031633Z
UID:5970-1575973800-1575985800@www.carnegiehillcsa.org
SUMMARY:Lewis Waite Farm Delivery
DESCRIPTION:Place orders for pastured eggs\, cheeses\, milk\, bread and pizza\, jams\, butter\, grass fed meat\, pastured poultry\, and much more from a coalition of 60 small family farms in Upstate NY and Vermont. All meats\, poultry\, and dairy are free of growth hormones and antibiotics. Many vegan\, organic\, dairy-free\, and gluten-free items available. Members rave about the quality.
URL:https://www.carnegiehillcsa.org/calendar/lewis-waite-farm-delivery-27/
LOCATION:Pickup will be hosted at a member’s apartment on the UES. The address will be provided in confirmation email.
END:VEVENT
BEGIN:VEVENT
DTSTART;TZID=America/New_York:20191126T103000
DTEND;TZID=America/New_York:20191126T135000
DTSTAMP:20260425T112845
CREATED:20190517T224312Z
LAST-MODIFIED:20190517T224312Z
UID:5822-1574764200-1574776200@www.carnegiehillcsa.org
SUMMARY:Lewis Waite Farm Turkey & Holiday Delivery
DESCRIPTION:
URL:https://www.carnegiehillcsa.org/calendar/lewis-waite-farm-turkey-holiday-delivery-2/
LOCATION:Church of the Heavenly Rest
END:VEVENT
BEGIN:VEVENT
DTSTART;TZID=America/New_York:20191112T103000
DTEND;TZID=America/New_York:20191112T135000
DTSTAMP:20260425T112845
CREATED:20190517T224134Z
LAST-MODIFIED:20190517T224134Z
UID:5820-1573554600-1573566600@www.carnegiehillcsa.org
SUMMARY:Last Vegetable & Fruit Pickup
DESCRIPTION:
URL:https://www.carnegiehillcsa.org/calendar/last-vegetable-fruit-pickup/
LOCATION:Church of the Heavenly Rest
END:VEVENT
BEGIN:VEVENT
DTSTART;TZID=America/New_York:20191105T103000
DTEND;TZID=America/New_York:20191105T135000
DTSTAMP:20260425T112845
CREATED:20190517T223859Z
LAST-MODIFIED:20190517T223859Z
UID:5818-1572949800-1572961800@www.carnegiehillcsa.org
SUMMARY:Coffee & Bean Share Delivery
DESCRIPTION:
URL:https://www.carnegiehillcsa.org/calendar/coffee-bean-share-delivery-6/
LOCATION:Church of the Heavenly Rest
END:VEVENT
BEGIN:VEVENT
DTSTART;TZID=America/New_York:20191105T103000
DTEND;TZID=America/New_York:20191105T135000
DTSTAMP:20260425T112845
CREATED:20190517T223815Z
LAST-MODIFIED:20190517T223815Z
UID:5816-1572949800-1572961800@www.carnegiehillcsa.org
SUMMARY:Lewis Waite Farm Delivery
DESCRIPTION:
URL:https://www.carnegiehillcsa.org/calendar/lewis-waite-farm-delivery-26/
LOCATION:Church of the Heavenly Rest
END:VEVENT
BEGIN:VEVENT
DTSTART;TZID=America/New_York:20191022T113000
DTEND;TZID=America/New_York:20191022T145000
DTSTAMP:20260425T112845
CREATED:20190517T223725Z
LAST-MODIFIED:20190517T223725Z
UID:5814-1571743800-1571755800@www.carnegiehillcsa.org
SUMMARY:Lewis Waite Farm Delivery
DESCRIPTION:
URL:https://www.carnegiehillcsa.org/calendar/lewis-waite-farm-delivery-25/
LOCATION:Church of the Heavenly Rest
END:VEVENT
BEGIN:VEVENT
DTSTART;TZID=America/New_York:20191008T113000
DTEND;TZID=America/New_York:20191008T145000
DTSTAMP:20260425T112845
CREATED:20190823T025955Z
LAST-MODIFIED:20190823T025955Z
UID:5900-1570534200-1570546200@www.carnegiehillcsa.org
SUMMARY:**IMPORTANT** PICK UP LOCATION CHANGE
DESCRIPTION:Due to the Jewish Holidays\, our usual pickup site at the Church of the Heavenly Rest will not be available to us (Park Avenue Synagogue will be using the space). Please pick up your share at: \nChurch of the Holy Trinity\n316 East 88th Street\nbetween Second & First Aves
URL:https://www.carnegiehillcsa.org/calendar/important-pick-up-location-change-4/
LOCATION:Church of the Holy Trinity\, 316 E 88th Street\, New York\, NY\, 10128\, United States
END:VEVENT
BEGIN:VEVENT
DTSTART;TZID=America/New_York:20191008T113000
DTEND;TZID=America/New_York:20191008T145000
DTSTAMP:20260425T112845
CREATED:20190517T223603Z
LAST-MODIFIED:20190517T223603Z
UID:5812-1570534200-1570546200@www.carnegiehillcsa.org
SUMMARY:Lewis Waite Farm Delivery
DESCRIPTION:
URL:https://www.carnegiehillcsa.org/calendar/lewis-waite-farm-delivery-24/
LOCATION:Church of the Heavenly Rest
END:VEVENT
BEGIN:VEVENT
DTSTART;TZID=America/New_York:20191001T113000
DTEND;TZID=America/New_York:20191001T145000
DTSTAMP:20260425T112845
CREATED:20190823T025646Z
LAST-MODIFIED:20190823T025646Z
UID:5896-1569929400-1569941400@www.carnegiehillcsa.org
SUMMARY:**IMPORTANT** PICK UP LOCATION CHANGE
DESCRIPTION:Due to the Jewish Holidays\, our usual pickup site at the Church of the Heavenly Rest will not be available to us (Park Avenue Synagogue will be using the space). Please pick up your share at: \nChurch of the Holy Trinity\n316 East 88th Street\nbetween Second & First Aves
URL:https://www.carnegiehillcsa.org/calendar/important-pick-up-location-change-3/
LOCATION:Church of the Holy Trinity\, 316 E 88th Street\, New York\, NY\, 10128\, United States
END:VEVENT
BEGIN:VEVENT
DTSTART;TZID=America/New_York:20191001T113000
DTEND;TZID=America/New_York:20191001T145000
DTSTAMP:20260425T112845
CREATED:20190517T223459Z
LAST-MODIFIED:20190517T223459Z
UID:5810-1569929400-1569941400@www.carnegiehillcsa.org
SUMMARY:Coffee & Bean Share Delivery
DESCRIPTION:
URL:https://www.carnegiehillcsa.org/calendar/coffee-bean-share-delivery-5/
LOCATION:Church of the Heavenly Rest
END:VEVENT
BEGIN:VEVENT
DTSTART;TZID=America/New_York:20190924T113000
DTEND;TZID=America/New_York:20190924T145000
DTSTAMP:20260425T112845
CREATED:20190517T223334Z
LAST-MODIFIED:20190517T223334Z
UID:5808-1569324600-1569336600@www.carnegiehillcsa.org
SUMMARY:Lewis Waite Farm Delivery
DESCRIPTION:
URL:https://www.carnegiehillcsa.org/calendar/lewis-waite-farm-delivery-23/
LOCATION:Church of the Heavenly Rest
END:VEVENT
BEGIN:VEVENT
DTSTART;TZID=America/New_York:20190910T113000
DTEND;TZID=America/New_York:20190910T145000
DTSTAMP:20260425T112845
CREATED:20190517T223251Z
LAST-MODIFIED:20190517T223251Z
UID:5806-1568115000-1568127000@www.carnegiehillcsa.org
SUMMARY:Lewis Waite Farm Delivery
DESCRIPTION:
URL:https://www.carnegiehillcsa.org/calendar/lewis-waite-farm-delivery-22/
LOCATION:Church of the Heavenly Rest
END:VEVENT
BEGIN:VEVENT
DTSTART;TZID=America/New_York:20190910T113000
DTEND;TZID=America/New_York:20190910T145000
DTSTAMP:20260425T112845
CREATED:20190517T223111Z
LAST-MODIFIED:20190517T223111Z
UID:5804-1568115000-1568127000@www.carnegiehillcsa.org
SUMMARY:Fall Fruit Shares Begin
DESCRIPTION:
URL:https://www.carnegiehillcsa.org/calendar/fall-fruit-shares-begin-2/
LOCATION:Church of the Heavenly Rest
END:VEVENT
BEGIN:VEVENT
DTSTART;TZID=America/New_York:20190903T113000
DTEND;TZID=America/New_York:20190903T145000
DTSTAMP:20260425T112845
CREATED:20190517T222951Z
LAST-MODIFIED:20190517T222951Z
UID:5802-1567510200-1567522200@www.carnegiehillcsa.org
SUMMARY:Last Pickup for Spring Fruit Shares
DESCRIPTION:
URL:https://www.carnegiehillcsa.org/calendar/last-pickup-for-spring-fruit-shares-2/
LOCATION:Church of the Heavenly Rest
END:VEVENT
BEGIN:VEVENT
DTSTART;TZID=America/New_York:20190831T073000
DTEND;TZID=America/New_York:20190831T110000
DTSTAMP:20260425T112845
CREATED:20190823T024618Z
LAST-MODIFIED:20190823T024618Z
UID:5894-1567236600-1567249200@www.carnegiehillcsa.org
SUMMARY:Fall Farm Festival
DESCRIPTION:Bring your family for a great day on the farm. This is a wonderful day to come to the farm and see how your vegetables are grown\, meet your farmers\, and walk the fields. The grill will be hot with pulled pork\, grilled sweet corn\, and a batch of Stoneledge Farm Vegetable Chili (a favorite!). There will be fresh fruit\, Stoneledge Farm coffee\, and water available as well. There will also be flowers to pick and take home from the flower garden. \nWe ask that you bring a dish to share so that lunch is a giant pot luck get together. If possible\, please bring your own place settings\, utensils\, cup\, and something to keep flowers in until you get home (wet paper towels in a bag will usually do the trick). No pets please! \nMake it a weekend getaway and enjoy the Catskills! Use this link to plan your trip.
URL:https://www.carnegiehillcsa.org/calendar/fall-farm-festival-2/
LOCATION:Stoneledge Farm\, 145 Garcia Lane\, Leeds\, New York\, 12451
ORGANIZER;CN="Stoneledge Farm":MAILTO:info@stoneledge.farm
END:VEVENT
BEGIN:VEVENT
DTSTART;TZID=America/New_York:20190827T113000
DTEND;TZID=America/New_York:20190827T145000
DTSTAMP:20260425T112845
CREATED:20190517T222809Z
LAST-MODIFIED:20190517T222809Z
UID:5800-1566905400-1566917400@www.carnegiehillcsa.org
SUMMARY:Coffee & Bean Share Delivery
DESCRIPTION:
URL:https://www.carnegiehillcsa.org/calendar/coffee-bean-share-delivery-4/
LOCATION:Church of the Heavenly Rest
END:VEVENT
BEGIN:VEVENT
DTSTART;TZID=America/New_York:20190827T113000
DTEND;TZID=America/New_York:20190827T145000
DTSTAMP:20260425T112845
CREATED:20190517T222719Z
LAST-MODIFIED:20190517T222719Z
UID:5798-1566905400-1566917400@www.carnegiehillcsa.org
SUMMARY:Lewis Waite Farm Delivery
DESCRIPTION:
URL:https://www.carnegiehillcsa.org/calendar/lewis-waite-farm-delivery-21/
LOCATION:Church of the Heavenly Rest
END:VEVENT
BEGIN:VEVENT
DTSTART;TZID=America/New_York:20190827T113000
DTEND;TZID=America/New_York:20190827T145000
DTSTAMP:20260425T112845
CREATED:20190517T222514Z
LAST-MODIFIED:20190517T222514Z
UID:5796-1566905400-1566917400@www.carnegiehillcsa.org
SUMMARY:Fall Vegetable Shares Begin
DESCRIPTION:
URL:https://www.carnegiehillcsa.org/calendar/fall-vegetable-shares-begin-2/
LOCATION:Church of the Heavenly Rest
END:VEVENT
BEGIN:VEVENT
DTSTART;TZID=America/New_York:20190820T113000
DTEND;TZID=America/New_York:20190820T145000
DTSTAMP:20260425T112845
CREATED:20190517T222325Z
LAST-MODIFIED:20190517T222325Z
UID:5794-1566300600-1566312600@www.carnegiehillcsa.org
SUMMARY:Last Pickup for Spring Vegetable Shares
DESCRIPTION:
URL:https://www.carnegiehillcsa.org/calendar/last-pickup-for-spring-vegetable-shares-2/
LOCATION:Church of the Heavenly Rest
END:VEVENT
BEGIN:VEVENT
DTSTART;TZID=America/New_York:20190813T113000
DTEND;TZID=America/New_York:20190813T145000
DTSTAMP:20260425T112845
CREATED:20190517T222124Z
LAST-MODIFIED:20190517T222124Z
UID:5792-1565695800-1565707800@www.carnegiehillcsa.org
SUMMARY:Lewis Waite Farm Delivery
DESCRIPTION:
URL:https://www.carnegiehillcsa.org/calendar/lewis-waite-farm-delivery-20/
LOCATION:Church of the Heavenly Rest
END:VEVENT
BEGIN:VEVENT
DTSTART;TZID=America/New_York:20190806T113000
DTEND;TZID=America/New_York:20190806T145000
DTSTAMP:20260425T112845
CREATED:20190517T221934Z
LAST-MODIFIED:20190517T221934Z
UID:5790-1565091000-1565103000@www.carnegiehillcsa.org
SUMMARY:Coffee & Bean Share Delivery
DESCRIPTION:
URL:https://www.carnegiehillcsa.org/calendar/coffee-bean-share-delivery-3/
LOCATION:Church of the Heavenly Rest
END:VEVENT
BEGIN:VEVENT
DTSTART;TZID=America/New_York:20190730T113000
DTEND;TZID=America/New_York:20190730T145000
DTSTAMP:20260425T112845
CREATED:20190517T221743Z
LAST-MODIFIED:20190517T221743Z
UID:5788-1564486200-1564498200@www.carnegiehillcsa.org
SUMMARY:Lewis Waite Farm Delivery
DESCRIPTION:
URL:https://www.carnegiehillcsa.org/calendar/lewis-waite-farm-delivery-19/
LOCATION:Church of the Heavenly Rest
END:VEVENT
BEGIN:VEVENT
DTSTART;TZID=America/New_York:20190716T113000
DTEND;TZID=America/New_York:20190716T145000
DTSTAMP:20260425T112845
CREATED:20190517T221637Z
LAST-MODIFIED:20190517T221637Z
UID:5786-1563276600-1563288600@www.carnegiehillcsa.org
SUMMARY:Lewis Waite Farm Delivery
DESCRIPTION:
URL:https://www.carnegiehillcsa.org/calendar/lewis-waite-farm-delivery-18/
LOCATION:Church of the Heavenly Rest
END:VEVENT
BEGIN:VEVENT
DTSTART;TZID=America/New_York:20190702T113000
DTEND;TZID=America/New_York:20190702T145000
DTSTAMP:20260425T112845
CREATED:20190517T221539Z
LAST-MODIFIED:20190517T221539Z
UID:5784-1562067000-1562079000@www.carnegiehillcsa.org
SUMMARY:Coffee & Bean Share Delivery
DESCRIPTION:
URL:https://www.carnegiehillcsa.org/calendar/coffee-bean-share-delivery-2/
LOCATION:Church of the Heavenly Rest
END:VEVENT
BEGIN:VEVENT
DTSTART;TZID=America/New_York:20190702T113000
DTEND;TZID=America/New_York:20190702T145000
DTSTAMP:20260425T112845
CREATED:20190517T221319Z
LAST-MODIFIED:20190517T225002Z
UID:5782-1562067000-1562079000@www.carnegiehillcsa.org
SUMMARY:Lewis Waite Farm Delivery
DESCRIPTION:
URL:https://www.carnegiehillcsa.org/calendar/lewis-waite-farm-delivery-17/
LOCATION:Church of the Heavenly Rest
END:VEVENT
BEGIN:VEVENT
DTSTART;TZID=America/New_York:20190702T113000
DTEND;TZID=America/New_York:20190702T145000
DTSTAMP:20260425T112845
CREATED:20190517T220959Z
LAST-MODIFIED:20190517T224916Z
UID:5777-1562067000-1562079000@www.carnegiehillcsa.org
SUMMARY:First Fruit Delivery
DESCRIPTION:
URL:https://www.carnegiehillcsa.org/calendar/first-fruit-delivery-2/
LOCATION:Church of the Heavenly Rest
END:VEVENT
END:VCALENDAR