BEGIN:VCALENDAR
VERSION:2.0
PRODID:-//Carnegie Hill CSA - ECPv6.15.17//NONSGML v1.0//EN
CALSCALE:GREGORIAN
METHOD:PUBLISH
X-WR-CALNAME:Carnegie Hill CSA
X-ORIGINAL-URL:https://www.carnegiehillcsa.org
X-WR-CALDESC:Events for Carnegie Hill CSA
REFRESH-INTERVAL;VALUE=DURATION:PT1H
X-Robots-Tag:noindex
X-PUBLISHED-TTL:PT1H
BEGIN:VTIMEZONE
TZID:America/New_York
BEGIN:DAYLIGHT
TZOFFSETFROM:-0500
TZOFFSETTO:-0400
TZNAME:EDT
DTSTART:20200308T070000
END:DAYLIGHT
BEGIN:STANDARD
TZOFFSETFROM:-0400
TZOFFSETTO:-0500
TZNAME:EST
DTSTART:20201101T060000
END:STANDARD
BEGIN:DAYLIGHT
TZOFFSETFROM:-0500
TZOFFSETTO:-0400
TZNAME:EDT
DTSTART:20210314T070000
END:DAYLIGHT
BEGIN:STANDARD
TZOFFSETFROM:-0400
TZOFFSETTO:-0500
TZNAME:EST
DTSTART:20211107T060000
END:STANDARD
BEGIN:DAYLIGHT
TZOFFSETFROM:-0500
TZOFFSETTO:-0400
TZNAME:EDT
DTSTART:20220313T070000
END:DAYLIGHT
BEGIN:STANDARD
TZOFFSETFROM:-0400
TZOFFSETTO:-0500
TZNAME:EST
DTSTART:20221106T060000
END:STANDARD
BEGIN:DAYLIGHT
TZOFFSETFROM:-0500
TZOFFSETTO:-0400
TZNAME:EDT
DTSTART:20230312T070000
END:DAYLIGHT
BEGIN:STANDARD
TZOFFSETFROM:-0400
TZOFFSETTO:-0500
TZNAME:EST
DTSTART:20231105T060000
END:STANDARD
END:VTIMEZONE
BEGIN:VEVENT
DTSTART;TZID=America/New_York:20220315T140000
DTEND;TZID=America/New_York:20220315T180000
DTSTAMP:20260424T100959
CREATED:20211201T194618Z
LAST-MODIFIED:20211201T194618Z
UID:6895-1647352800-1647367200@www.carnegiehillcsa.org
SUMMARY:Lewis Waite Farm Delivery
DESCRIPTION:Members and friends can order CSA extras from the Lewis Waite Farmer Network. They deliver a wide variety of locally sourced\, responsibly raised\, farm fresh products – pastured eggs\, cheeses\, butter\, bread\, pizza\, flour\, jams\, grass-fed and finished meat\, pastured poultry\, pantry staples\, and much more from a coalition of 60+ small family farms in Upstate NY & VT. All meats\, poultry\, and dairy are free of growth hormones & antibiotics. Many vegan\, organic\, dairy-free\, and gluten-free items available. Members rave about the quality. \nPlace your order by 8am Monday the day before delivery.
URL:https://www.carnegiehillcsa.org/calendar/2022-mar-lwf-delivery/
LOCATION:Pickup will be outside of a member’s building on the UES. We’ll email the pickup location details the Monday before delivery.
CATEGORIES:CSA extras
END:VEVENT
BEGIN:VEVENT
DTSTART;TZID=America/New_York:20220215T130000
DTEND;TZID=America/New_York:20220215T170000
DTSTAMP:20260424T100959
CREATED:20211201T194501Z
LAST-MODIFIED:20211201T194501Z
UID:6893-1644930000-1644944400@www.carnegiehillcsa.org
SUMMARY:Lewis Waite Farm Delivery
DESCRIPTION:Members and friends can order CSA extras from the Lewis Waite Farmer Network. They deliver a wide variety of locally sourced\, responsibly raised\, farm fresh products – pastured eggs\, cheeses\, butter\, bread\, pizza\, flour\, jams\, grass-fed and finished meat\, pastured poultry\, pantry staples\, and much more from a coalition of 60+ small family farms in Upstate NY & VT. All meats\, poultry\, and dairy are free of growth hormones & antibiotics. Many vegan\, organic\, dairy-free\, and gluten-free items available. Members rave about the quality. \nPlace your order by 8am Monday the day before delivery.
URL:https://www.carnegiehillcsa.org/calendar/2022-feb-lwf-delivery/
LOCATION:Pickup will be outside of a member’s building on the UES. We’ll email the pickup location details the Monday before delivery.
CATEGORIES:CSA extras
END:VEVENT
BEGIN:VEVENT
DTSTART;TZID=America/New_York:20220111T130000
DTEND;TZID=America/New_York:20220111T170000
DTSTAMP:20260424T100959
CREATED:20211201T194358Z
LAST-MODIFIED:20211201T194358Z
UID:6891-1641906000-1641920400@www.carnegiehillcsa.org
SUMMARY:Lewis Waite Farm Delivery
DESCRIPTION:Members and friends can order CSA extras from the Lewis Waite Farmer Network. They deliver a wide variety of locally sourced\, responsibly raised\, farm fresh products – pastured eggs\, cheeses\, butter\, bread\, pizza\, flour\, jams\, grass-fed and finished meat\, pastured poultry\, pantry staples\, and much more from a coalition of 60+ small family farms in Upstate NY & VT. All meats\, poultry\, and dairy are free of growth hormones & antibiotics. Many vegan\, organic\, dairy-free\, and gluten-free items available. Members rave about the quality. \nPlace your order by 8am Monday the day before delivery.
URL:https://www.carnegiehillcsa.org/calendar/2022-jan-lwf-delivery/
LOCATION:Pickup will be outside of a member’s building on the UES. We’ll email the pickup location details the Monday before delivery.
CATEGORIES:CSA extras
END:VEVENT
BEGIN:VEVENT
DTSTART;TZID=America/New_York:20211214T130000
DTEND;TZID=America/New_York:20211214T170000
DTSTAMP:20260424T100959
CREATED:20211201T194229Z
LAST-MODIFIED:20211201T194229Z
UID:6889-1639486800-1639501200@www.carnegiehillcsa.org
SUMMARY:Lewis Waite Farm Delivery
DESCRIPTION:Members and friends can order CSA extras from the Lewis Waite Farmer Network. They deliver a wide variety of locally sourced\, responsibly raised\, farm fresh products – pastured eggs\, cheeses\, butter\, bread\, pizza\, flour\, jams\, grass-fed and finished meat\, pastured poultry\, pantry staples\, and much more from a coalition of 60+ small family farms in Upstate NY & VT. All meats\, poultry\, and dairy are free of growth hormones & antibiotics. Many vegan\, organic\, dairy-free\, and gluten-free items available. Members rave about the quality. \nPlace your order by 8am Monday the day before delivery.
URL:https://www.carnegiehillcsa.org/calendar/2021-dec-lwf-delivery/
LOCATION:Pickup will be outside of a member’s building on the UES. We’ll email the pickup location details the Monday before delivery.
CATEGORIES:CSA extras
END:VEVENT
BEGIN:VEVENT
DTSTART;TZID=America/New_York:20211123T120000
DTEND;TZID=America/New_York:20211123T160000
DTSTAMP:20260424T100959
CREATED:20210604T040352Z
LAST-MODIFIED:20210604T040352Z
UID:6627-1637668800-1637683200@www.carnegiehillcsa.org
SUMMARY:Lewis Waite Farm Turkey & Holiday Delivery
DESCRIPTION:
URL:https://www.carnegiehillcsa.org/calendar/lewis-waite-farm-turkey-holiday-delivery-4/
LOCATION:Church of the Heavenly Rest
CATEGORIES:CSA extras
END:VEVENT
BEGIN:VEVENT
DTSTART;TZID=America/New_York:20211116T140000
DTEND;TZID=America/New_York:20211116T170000
DTSTAMP:20260424T100959
CREATED:20210406T191039Z
LAST-MODIFIED:20210604T040129Z
UID:6599-1637071200-1637082000@www.carnegiehillcsa.org
SUMMARY:Week #24: Last Vegetable & Fruit Pickup; Lewis Waite Farm Delivery
DESCRIPTION:This is our last week of 2021 vegetable and fruit shares. There will be a special Thanksgiving delivery from Lewis Waite Farm next Tuesday\, November 23rd.
URL:https://www.carnegiehillcsa.org/calendar/2021-week-24/
LOCATION:Church of the Heavenly Rest
CATEGORIES:CSA extras,CSA share pickup
END:VEVENT
BEGIN:VEVENT
DTSTART;TZID=America/New_York:20211109T140000
DTEND;TZID=America/New_York:20211109T170000
DTSTAMP:20260424T100959
CREATED:20210406T190707Z
LAST-MODIFIED:20210406T190707Z
UID:6597-1636466400-1636477200@www.carnegiehillcsa.org
SUMMARY:Week #23
DESCRIPTION:
URL:https://www.carnegiehillcsa.org/calendar/2021-week-23/
LOCATION:Church of the Heavenly Rest
CATEGORIES:CSA share pickup
END:VEVENT
BEGIN:VEVENT
DTSTART;TZID=America/New_York:20211102T150000
DTEND;TZID=America/New_York:20211102T180000
DTSTAMP:20260424T100959
CREATED:20210406T190432Z
LAST-MODIFIED:20210604T040103Z
UID:6595-1635865200-1635876000@www.carnegiehillcsa.org
SUMMARY:Week #22: Coffee & Bean Shares; Lewis Waite Farm Delivery
DESCRIPTION:
URL:https://www.carnegiehillcsa.org/calendar/2021-week-22/
LOCATION:Church of the Heavenly Rest
CATEGORIES:CSA extras,CSA share pickup
END:VEVENT
BEGIN:VEVENT
DTSTART;TZID=America/New_York:20211026T150000
DTEND;TZID=America/New_York:20211026T180000
DTSTAMP:20260424T100959
CREATED:20210406T190252Z
LAST-MODIFIED:20210406T190252Z
UID:6593-1635260400-1635271200@www.carnegiehillcsa.org
SUMMARY:Week #21
DESCRIPTION:
URL:https://www.carnegiehillcsa.org/calendar/2021-week-21/
LOCATION:Church of the Heavenly Rest
CATEGORIES:CSA share pickup
END:VEVENT
BEGIN:VEVENT
DTSTART;TZID=America/New_York:20211019T150000
DTEND;TZID=America/New_York:20211019T180000
DTSTAMP:20260424T100959
CREATED:20210406T190141Z
LAST-MODIFIED:20210604T040037Z
UID:6591-1634655600-1634666400@www.carnegiehillcsa.org
SUMMARY:Week #20: Lewis Waite Farm Delivery
DESCRIPTION:
URL:https://www.carnegiehillcsa.org/calendar/2021-week-20/
LOCATION:Church of the Heavenly Rest
CATEGORIES:CSA extras,CSA share pickup
END:VEVENT
BEGIN:VEVENT
DTSTART;TZID=America/New_York:20211012T150000
DTEND;TZID=America/New_York:20211012T180000
DTSTAMP:20260424T100959
CREATED:20210406T190027Z
LAST-MODIFIED:20210406T190027Z
UID:6589-1634050800-1634061600@www.carnegiehillcsa.org
SUMMARY:Week #19
DESCRIPTION:
URL:https://www.carnegiehillcsa.org/calendar/2021-week-19/
LOCATION:Church of the Heavenly Rest
CATEGORIES:CSA share pickup
END:VEVENT
BEGIN:VEVENT
DTSTART;TZID=America/New_York:20211005T150000
DTEND;TZID=America/New_York:20211005T180000
DTSTAMP:20260424T100959
CREATED:20210406T185911Z
LAST-MODIFIED:20210604T040004Z
UID:6587-1633446000-1633456800@www.carnegiehillcsa.org
SUMMARY:Week #18: Coffee & Bean Shares; Lewis Waite Farm Delivery
DESCRIPTION:
URL:https://www.carnegiehillcsa.org/calendar/2021-week-18/
LOCATION:Church of the Heavenly Rest
CATEGORIES:CSA extras,CSA share pickup
END:VEVENT
BEGIN:VEVENT
DTSTART;TZID=America/New_York:20210928T150000
DTEND;TZID=America/New_York:20210928T180000
DTSTAMP:20260424T100959
CREATED:20210406T185749Z
LAST-MODIFIED:20210406T185749Z
UID:6585-1632841200-1632852000@www.carnegiehillcsa.org
SUMMARY:Week #17
DESCRIPTION:
URL:https://www.carnegiehillcsa.org/calendar/2021-week-17/
LOCATION:Church of the Heavenly Rest
CATEGORIES:CSA share pickup
END:VEVENT
BEGIN:VEVENT
DTSTART;TZID=America/New_York:20210921T150000
DTEND;TZID=America/New_York:20210921T180000
DTSTAMP:20260424T100959
CREATED:20210406T185622Z
LAST-MODIFIED:20210604T035931Z
UID:6583-1632236400-1632247200@www.carnegiehillcsa.org
SUMMARY:Week #16: Lewis Waite Farm Delivery
DESCRIPTION:
URL:https://www.carnegiehillcsa.org/calendar/2021-week-16/
LOCATION:Church of the Heavenly Rest
CATEGORIES:CSA extras,CSA share pickup
END:VEVENT
BEGIN:VEVENT
DTSTART;TZID=America/New_York:20210914T150000
DTEND;TZID=America/New_York:20210914T180000
DTSTAMP:20260424T100959
CREATED:20210406T185450Z
LAST-MODIFIED:20210406T185450Z
UID:6581-1631631600-1631642400@www.carnegiehillcsa.org
SUMMARY:Week #15
DESCRIPTION:
URL:https://www.carnegiehillcsa.org/calendar/2021-week-15/
LOCATION:Church of the Heavenly Rest
CATEGORIES:CSA share pickup
END:VEVENT
BEGIN:VEVENT
DTSTART;TZID=America/New_York:20210907T150000
DTEND;TZID=America/New_York:20210907T180000
DTSTAMP:20260424T100959
CREATED:20210406T185118Z
LAST-MODIFIED:20210604T035902Z
UID:6579-1631026800-1631037600@www.carnegiehillcsa.org
SUMMARY:Week #14: Lewis Waite Farm Delivery
DESCRIPTION:
URL:https://www.carnegiehillcsa.org/calendar/2021-week-14/
LOCATION:Church of the Heavenly Rest
CATEGORIES:CSA extras,CSA share pickup
END:VEVENT
BEGIN:VEVENT
DTSTART;TZID=America/New_York:20210831T150000
DTEND;TZID=America/New_York:20210831T180000
DTSTAMP:20260424T100959
CREATED:20210406T184940Z
LAST-MODIFIED:20210406T184940Z
UID:6577-1630422000-1630432800@www.carnegiehillcsa.org
SUMMARY:Week #13: Autumn Shares Begin; Coffee & Bean Shares
DESCRIPTION:Welcome to our Autumn Shares!
URL:https://www.carnegiehillcsa.org/calendar/2021-week-13/
LOCATION:Church of the Heavenly Rest
CATEGORIES:CSA share pickup
END:VEVENT
BEGIN:VEVENT
DTSTART;TZID=America/New_York:20210824T150000
DTEND;TZID=America/New_York:20210824T180000
DTSTAMP:20260424T100959
CREATED:20210406T184616Z
LAST-MODIFIED:20210604T035836Z
UID:6574-1629817200-1629828000@www.carnegiehillcsa.org
SUMMARY:Week #12: Last Pickup for Spring Shares; Lewis Waite Farm Delivery
DESCRIPTION:This is the last week for Spring Vegetable and Fruit Shares.
URL:https://www.carnegiehillcsa.org/calendar/2021-week-12/
LOCATION:Church of the Heavenly Rest
CATEGORIES:CSA extras,CSA share pickup
END:VEVENT
BEGIN:VEVENT
DTSTART;TZID=America/New_York:20210817T150000
DTEND;TZID=America/New_York:20210817T180000
DTSTAMP:20260424T100959
CREATED:20210406T184439Z
LAST-MODIFIED:20210406T184439Z
UID:6572-1629212400-1629223200@www.carnegiehillcsa.org
SUMMARY:Week #11
DESCRIPTION:
URL:https://www.carnegiehillcsa.org/calendar/2021-week-11/
LOCATION:Church of the Heavenly Rest
CATEGORIES:CSA share pickup
END:VEVENT
BEGIN:VEVENT
DTSTART;TZID=America/New_York:20210810T150000
DTEND;TZID=America/New_York:20210810T180000
DTSTAMP:20260424T100959
CREATED:20210406T184309Z
LAST-MODIFIED:20210604T035759Z
UID:6570-1628607600-1628618400@www.carnegiehillcsa.org
SUMMARY:Week #10: Lewis Waite Farm Delivery
DESCRIPTION:
URL:https://www.carnegiehillcsa.org/calendar/2021-week-10/
LOCATION:Church of the Heavenly Rest
CATEGORIES:CSA extras,CSA share pickup
END:VEVENT
BEGIN:VEVENT
DTSTART;TZID=America/New_York:20210803T150000
DTEND;TZID=America/New_York:20210803T180000
DTSTAMP:20260424T100959
CREATED:20210406T184153Z
LAST-MODIFIED:20210406T184153Z
UID:6568-1628002800-1628013600@www.carnegiehillcsa.org
SUMMARY:Week #9: Coffee & Bean Shares
DESCRIPTION:
URL:https://www.carnegiehillcsa.org/calendar/2021-week-9/
LOCATION:Church of the Heavenly Rest
CATEGORIES:CSA share pickup
END:VEVENT
BEGIN:VEVENT
DTSTART;TZID=America/New_York:20210727T150000
DTEND;TZID=America/New_York:20210727T180000
DTSTAMP:20260424T100959
CREATED:20210406T183959Z
LAST-MODIFIED:20210604T035625Z
UID:6566-1627398000-1627408800@www.carnegiehillcsa.org
SUMMARY:Week #8: Lewis Waite Farm Delivery
DESCRIPTION:
URL:https://www.carnegiehillcsa.org/calendar/2021-week-8/
LOCATION:Church of the Heavenly Rest
CATEGORIES:CSA extras,CSA share pickup
END:VEVENT
BEGIN:VEVENT
DTSTART;TZID=America/New_York:20210720T150000
DTEND;TZID=America/New_York:20210720T180000
DTSTAMP:20260424T100959
CREATED:20210406T183817Z
LAST-MODIFIED:20210406T183817Z
UID:6564-1626793200-1626804000@www.carnegiehillcsa.org
SUMMARY:Week #7
DESCRIPTION:
URL:https://www.carnegiehillcsa.org/calendar/2021-week-7/
LOCATION:Church of the Heavenly Rest
CATEGORIES:CSA share pickup
END:VEVENT
BEGIN:VEVENT
DTSTART;TZID=America/New_York:20210713T150000
DTEND;TZID=America/New_York:20210713T180000
DTSTAMP:20260424T100959
CREATED:20210406T183655Z
LAST-MODIFIED:20210604T035553Z
UID:6562-1626188400-1626199200@www.carnegiehillcsa.org
SUMMARY:Week #6: Lewis Waite Farm Delivery
DESCRIPTION:
URL:https://www.carnegiehillcsa.org/calendar/2021-week-6/
LOCATION:Church of the Heavenly Rest
CATEGORIES:CSA extras,CSA share pickup
END:VEVENT
BEGIN:VEVENT
DTSTART;TZID=America/New_York:20210706T150000
DTEND;TZID=America/New_York:20210706T180000
DTSTAMP:20260424T100959
CREATED:20210406T183514Z
LAST-MODIFIED:20210406T183514Z
UID:6560-1625583600-1625594400@www.carnegiehillcsa.org
SUMMARY:Week #5: Fruit Shares Begin
DESCRIPTION:This is the first week of fruit shares! They begin during our fifth CSA week given the climate and growing conditions in New York state.
URL:https://www.carnegiehillcsa.org/calendar/2021-week-5/
LOCATION:Church of the Heavenly Rest
CATEGORIES:CSA share pickup
END:VEVENT
BEGIN:VEVENT
DTSTART;TZID=America/New_York:20210629T150000
DTEND;TZID=America/New_York:20210629T180000
DTSTAMP:20260424T100959
CREATED:20210406T183134Z
LAST-MODIFIED:20210604T035517Z
UID:6558-1624978800-1624989600@www.carnegiehillcsa.org
SUMMARY:Week #4: Coffee & Bean Shares; Lewis Waite Farm Delivery
DESCRIPTION:
URL:https://www.carnegiehillcsa.org/calendar/2021-week-4/
LOCATION:Church of the Heavenly Rest
CATEGORIES:CSA extras,CSA share pickup
END:VEVENT
BEGIN:VEVENT
DTSTART;TZID=America/New_York:20210622T150000
DTEND;TZID=America/New_York:20210622T180000
DTSTAMP:20260424T100959
CREATED:20210406T182710Z
LAST-MODIFIED:20210406T182710Z
UID:6556-1624374000-1624384800@www.carnegiehillcsa.org
SUMMARY:Week #3
DESCRIPTION:
URL:https://www.carnegiehillcsa.org/calendar/2021-week-3/
LOCATION:Church of the Heavenly Rest
CATEGORIES:CSA share pickup
END:VEVENT
BEGIN:VEVENT
DTSTART;TZID=America/New_York:20210615T150000
DTEND;TZID=America/New_York:20210615T180000
DTSTAMP:20260424T100959
CREATED:20210406T182354Z
LAST-MODIFIED:20210604T035435Z
UID:6554-1623769200-1623780000@www.carnegiehillcsa.org
SUMMARY:Week #2: Lewis Waite Farm Delivery
DESCRIPTION:
URL:https://www.carnegiehillcsa.org/calendar/2021-week-2/
LOCATION:Church of the Heavenly Rest
CATEGORIES:CSA extras,CSA share pickup
END:VEVENT
BEGIN:VEVENT
DTSTART;TZID=America/New_York:20210608T150000
DTEND;TZID=America/New_York:20210608T180000
DTSTAMP:20260424T100959
CREATED:20210406T182128Z
LAST-MODIFIED:20210406T182128Z
UID:6552-1623164400-1623175200@www.carnegiehillcsa.org
SUMMARY:Week #1: Vegetable Pickups Begin; Coffee & Bean Shares
DESCRIPTION:Our first week of organic vegetable share deliveries from Stoneledge Farm!
URL:https://www.carnegiehillcsa.org/calendar/2021-week-1/
LOCATION:Church of the Heavenly Rest
CATEGORIES:CSA share pickup
END:VEVENT
BEGIN:VEVENT
DTSTART;TZID=America/New_York:20210518T133000
DTEND;TZID=America/New_York:20210518T180000
DTSTAMP:20260424T100959
CREATED:20210406T192119Z
LAST-MODIFIED:20210406T192119Z
UID:6604-1621344600-1621360800@www.carnegiehillcsa.org
SUMMARY:Lewis Waite Farm Delivery
DESCRIPTION:Members and friends can order CSA extras from the Lewis Waite Farmer Network. They deliver a wide variety of locally sourced\, responsibly raised\, farm fresh products – pastured eggs\, cheeses\, butter\, bread\, pizza\, flour\, jams\, grassfed meat\, pastured poultry\, pantry staples\, and much more from a coalition of 60+ small family farms in Upstate NY & VT. All meats\, poultry\, and dairy are free of growth hormones & antibiotics. Many vegan\, organic\, dairy-free\, and gluten-free items available. Members rave about the quality.
URL:https://www.carnegiehillcsa.org/calendar/2021-may-lwf-delivery/
LOCATION:Pickup will be outside of a member’s building on the UES. We’ll email the pickup location details the Monday before delivery.
CATEGORIES:CSA extras
END:VEVENT
END:VCALENDAR