BEGIN:VCALENDAR
VERSION:2.0
PRODID:-//Carnegie Hill CSA - ECPv6.15.17//NONSGML v1.0//EN
CALSCALE:GREGORIAN
METHOD:PUBLISH
X-WR-CALNAME:Carnegie Hill CSA
X-ORIGINAL-URL:https://www.carnegiehillcsa.org
X-WR-CALDESC:Events for Carnegie Hill CSA
REFRESH-INTERVAL;VALUE=DURATION:PT1H
X-Robots-Tag:noindex
X-PUBLISHED-TTL:PT1H
BEGIN:VTIMEZONE
TZID:America/New_York
BEGIN:DAYLIGHT
TZOFFSETFROM:-0500
TZOFFSETTO:-0400
TZNAME:EDT
DTSTART:20200308T070000
END:DAYLIGHT
BEGIN:STANDARD
TZOFFSETFROM:-0400
TZOFFSETTO:-0500
TZNAME:EST
DTSTART:20201101T060000
END:STANDARD
BEGIN:DAYLIGHT
TZOFFSETFROM:-0500
TZOFFSETTO:-0400
TZNAME:EDT
DTSTART:20210314T070000
END:DAYLIGHT
BEGIN:STANDARD
TZOFFSETFROM:-0400
TZOFFSETTO:-0500
TZNAME:EST
DTSTART:20211107T060000
END:STANDARD
BEGIN:DAYLIGHT
TZOFFSETFROM:-0500
TZOFFSETTO:-0400
TZNAME:EDT
DTSTART:20220313T070000
END:DAYLIGHT
BEGIN:STANDARD
TZOFFSETFROM:-0400
TZOFFSETTO:-0500
TZNAME:EST
DTSTART:20221106T060000
END:STANDARD
BEGIN:DAYLIGHT
TZOFFSETFROM:-0500
TZOFFSETTO:-0400
TZNAME:EDT
DTSTART:20230312T070000
END:DAYLIGHT
BEGIN:STANDARD
TZOFFSETFROM:-0400
TZOFFSETTO:-0500
TZNAME:EST
DTSTART:20231105T060000
END:STANDARD
BEGIN:DAYLIGHT
TZOFFSETFROM:-0500
TZOFFSETTO:-0400
TZNAME:EDT
DTSTART:20240310T070000
END:DAYLIGHT
BEGIN:STANDARD
TZOFFSETFROM:-0400
TZOFFSETTO:-0500
TZNAME:EST
DTSTART:20241103T060000
END:STANDARD
BEGIN:DAYLIGHT
TZOFFSETFROM:-0500
TZOFFSETTO:-0400
TZNAME:EDT
DTSTART:20250309T070000
END:DAYLIGHT
BEGIN:STANDARD
TZOFFSETFROM:-0400
TZOFFSETTO:-0500
TZNAME:EST
DTSTART:20251102T060000
END:STANDARD
END:VTIMEZONE
BEGIN:VEVENT
DTSTART;TZID=America/New_York:20240512T090000
DTEND;TZID=America/New_York:20240512T160000
DTSTAMP:20260424T033418
CREATED:20240507T202906Z
LAST-MODIFIED:20240507T202906Z
UID:7570-1715504400-1715529600@www.carnegiehillcsa.org
SUMMARY:Farm Visit & Plant Sale
DESCRIPTION:Stoneledge Farm’s spring farm visit and annual plant sale will take place on Mother’s Day weekend! Come meet your farmers\, take a self-guided field walk around the farm\, and take home some plants. Stoneledge will have 80+ varieties of vegetable garden plants\, herbs\, flowers\, and hanging baskets available. Farmers Peter\, Candice\, Deborah\, and Pete Sr. will be around to chat vegetables and answer any questions.
URL:https://www.carnegiehillcsa.org/calendar/2024-farm-visit-plant-sale-3/
LOCATION:Stoneledge Farm\, 145 Garcia Lane\, Leeds\, New York\, 12451
CATEGORIES:farm visit
ORGANIZER;CN="Stoneledge Farm":MAILTO:info@stoneledge.farm
END:VEVENT
BEGIN:VEVENT
DTSTART;TZID=America/New_York:20240511T090000
DTEND;TZID=America/New_York:20240511T160000
DTSTAMP:20260424T033418
CREATED:20240507T202735Z
LAST-MODIFIED:20240507T202735Z
UID:7568-1715418000-1715443200@www.carnegiehillcsa.org
SUMMARY:Farm Visit & Plant Sale
DESCRIPTION:Stoneledge Farm’s spring farm visit and annual plant sale will take place on Mother’s Day weekend! Come meet your farmers\, take a self-guided field walk around the farm\, and take home some plants. Stoneledge will have 80+ varieties of vegetable garden plants\, herbs\, flowers\, and hanging baskets available. Farmers Peter\, Candice\, Deborah\, and Pete Sr. will be around to chat vegetables and answer any questions.
URL:https://www.carnegiehillcsa.org/calendar/2024-farm-visit-plant-sale-2/
LOCATION:Stoneledge Farm\, 145 Garcia Lane\, Leeds\, New York\, 12451
CATEGORIES:farm visit
ORGANIZER;CN="Stoneledge Farm":MAILTO:info@stoneledge.farm
END:VEVENT
BEGIN:VEVENT
DTSTART;TZID=America/New_York:20240510T090000
DTEND;TZID=America/New_York:20240510T160000
DTSTAMP:20260424T033418
CREATED:20240507T202509Z
LAST-MODIFIED:20240507T202509Z
UID:7566-1715331600-1715356800@www.carnegiehillcsa.org
SUMMARY:Farm Visit & Plant Sale
DESCRIPTION:Stoneledge Farm’s spring farm visit and annual plant sale will take place on Mother’s Day weekend! Come meet your farmers\, take a self-guided field walk around the farm\, and take home some plants. Stoneledge will have 80+ varieties of vegetable garden plants\, herbs\, flowers\, and hanging baskets available. Farmers Peter\, Candice\, Deborah\, and Pete Sr. will be around to chat vegetables and answer any questions.
URL:https://www.carnegiehillcsa.org/calendar/2024-farm-visit-plant-sale-1/
LOCATION:Stoneledge Farm\, 145 Garcia Lane\, Leeds\, New York\, 12451
CATEGORIES:farm visit
ORGANIZER;CN="Stoneledge Farm":MAILTO:info@stoneledge.farm
END:VEVENT
BEGIN:VEVENT
DTSTART;TZID=America/New_York:20230514T090000
DTEND;TZID=America/New_York:20230514T160000
DTSTAMP:20260424T033418
CREATED:20230424T210100Z
LAST-MODIFIED:20230424T210150Z
UID:7297-1684054800-1684080000@www.carnegiehillcsa.org
SUMMARY:Farm Visit & Plant Sale
DESCRIPTION:Stoneledge Farm’s annual plant sale will take place on Mother’s Day weekend! This is a great way to stock up on all your garden plants for the summer. The farm crew has carefully seeded them for you and repotted them up so all you have to do is plant them. They will have porch hanging baskets this year (cherry tomatoes\, and some with basil mixed in! YUM!) as well as the herb garden pots for your porch\, deck\, or patio. Lots of great things will be at the plant sale. We hope you can make it! \nWhile you are here feel free to take a self-guided field walk or chat with your farmer. Farmers Pete\, Deb\, and Candice will be around and would love to answer any questions you might have.
URL:https://www.carnegiehillcsa.org/calendar/farm-visit-plant-sale-2/
LOCATION:Stoneledge Farm\, 145 Garcia Lane\, Leeds\, New York\, 12451
CATEGORIES:farm visit
ORGANIZER;CN="Stoneledge Farm":MAILTO:info@stoneledge.farm
END:VEVENT
BEGIN:VEVENT
DTSTART;TZID=America/New_York:20230513T090000
DTEND;TZID=America/New_York:20230513T160000
DTSTAMP:20260424T033418
CREATED:20230424T205929Z
LAST-MODIFIED:20230424T210236Z
UID:7295-1683968400-1683993600@www.carnegiehillcsa.org
SUMMARY:Farm Visit & Plant Sale
DESCRIPTION:Stoneledge Farm’s annual plant sale will take place on Mother’s Day weekend! This is a great way to stock up on all your garden plants for the summer. The farm crew has carefully seeded them for you and repotted them up so all you have to do is plant them. They will have porch hanging baskets this year (cherry tomatoes\, and some with basil mixed in! YUM!) as well as the herb garden pots for your porch\, deck\, or patio. Lots of great things will be at the plant sale. We hope you can make it! \nWhile you are here feel free to take a self-guided field walk or chat with your farmer. Farmers Pete\, Deb\, and Candice will be around and would love to answer any questions you might have.
URL:https://www.carnegiehillcsa.org/calendar/farm-visit-plant-sale/
LOCATION:Stoneledge Farm\, 145 Garcia Lane\, Leeds\, New York\, 12451
CATEGORIES:farm visit
ORGANIZER;CN="Stoneledge Farm":MAILTO:info@stoneledge.farm
END:VEVENT
BEGIN:VEVENT
DTSTART;TZID=America/New_York:20220904T113000
DTEND;TZID=America/New_York:20220904T150000
DTSTAMP:20260424T033418
CREATED:20220824T155954Z
LAST-MODIFIED:20220824T155954Z
UID:7110-1662291000-1662303600@www.carnegiehillcsa.org
SUMMARY:Stoneledge Farm Fall Visit
DESCRIPTION:Bring your family for a great day on the farm.  It is a great day to come to the farm and see how your vegetables are grown\, meet your farmers\, and walk the fields.  We have the grill hot and will have pork\, Stoneledge vegetarian chili made by Kim and Mickael of Paradis to Go (http://paradistogo.com) as well as grilled Sweet Corn. There will be fresh fruit\, Stoneledge Farm Coffee\, and water. \nWe ask that members bring a dish to share so that lunch is a giant potluck get-together.  If possible\, please bring your place settings\, utensils\, and cup.  We will have pick your own flowers available that day so if you could bring a pair of scissors to that would be great. \nNo pets\, please.
URL:https://www.carnegiehillcsa.org/calendar/2022-stoneledge-farm-fall-visit/
LOCATION:Stoneledge Farm\, 145 Garcia Lane\, Leeds\, New York\, 12451
CATEGORIES:farm visit
ORGANIZER;CN="Stoneledge Farm":MAILTO:info@stoneledge.farm
END:VEVENT
BEGIN:VEVENT
DTSTART;TZID=America/New_York:20210516T090000
DTEND;TZID=America/New_York:20210516T160000
DTSTAMP:20260424T033418
CREATED:20210415T203822Z
LAST-MODIFIED:20210415T203822Z
UID:6611-1621155600-1621180800@www.carnegiehillcsa.org
SUMMARY:Plant Sale @ Stoneledge Farm
DESCRIPTION:Stoneledge Farm will hold a plant sale at the farm in Leeds\, NY\, not far from the NYS Thruway exit 21 the weekend of May 15th & 16th. Stop by the farm between 9am and 4pm to pick up homegrown\, organic vegetable transplants and more! It’s a great way to escape NYC\, check out the farm\, see the crops before they arrive in our kitchens.
URL:https://www.carnegiehillcsa.org/calendar/2021-plant-sale-sun/
LOCATION:Stoneledge Farm\, 145 Garcia Lane\, Leeds\, New York\, 12451
CATEGORIES:farm visit
ORGANIZER;CN="Stoneledge Farm":MAILTO:info@stoneledge.farm
END:VEVENT
BEGIN:VEVENT
DTSTART;TZID=America/New_York:20210515T090000
DTEND;TZID=America/New_York:20210515T160000
DTSTAMP:20260424T033418
CREATED:20210415T203645Z
LAST-MODIFIED:20210415T203927Z
UID:6609-1621069200-1621094400@www.carnegiehillcsa.org
SUMMARY:Plant Sale @ Stoneledge Farm
DESCRIPTION:Stoneledge Farm will hold a plant sale at the farm in Leeds\, NY\, not far from the NYS Thruway exit 21 the weekend of May 15th & 16th. Stop by the farm between 9am and 4pm to pick up homegrown\, organic vegetable transplants and more! It’s a great way to escape NYC\, check out the farm\, see the crops before they arrive in our kitchens.
URL:https://www.carnegiehillcsa.org/calendar/2021-plant-sale-sat/
LOCATION:Stoneledge Farm\, 145 Garcia Lane\, Leeds\, New York\, 12451
CATEGORIES:farm visit
ORGANIZER;CN="Stoneledge Farm":MAILTO:info@stoneledge.farm
END:VEVENT
END:VCALENDAR